BEGIN:VCALENDAR
VERSION:2.0
PRODID:-//ChamberMaster//Event Calendar 2.0//EN
METHOD:PUBLISH
X-PUBLISHED-TTL:P3D
REFRESH-INTERVAL:P3D
CALSCALE:GREGORIAN
BEGIN:VEVENT
DTSTART:20260128T220000Z
DTEND:20260129T000000Z
X-MICROSOFT-CDO-ALLDAYEVENT:FALSE
SUMMARY:15 Common Mistakes That Will Undermine Any Business
DESCRIPTION:We have all heard the old saying "learn from other's mistakes." The presenter\, Bob Moore\, created this seminar from his experiences of owning his own businesses and working for medium and large domestic and international corporations. Opening and operating a small business normally involves a great deal of time and a substantial financial investment. During this seminar\, you will learn the fifteen most common mistakes made by entrepreneurs and many corporations that ultimately undermine the business. Regardless of whether you are opening or operating a business\, regardless of the size of your company\, this seminar will prove to be invaluable in helping you form a legal\, profitable\, and growing business. Make a solid investment in the future survival of your business by planning to attend this informative seminar!\n\n\n\nSpeaker(s): Bob Moore
X-ALT-DESC;FMTTYPE=text/html:We have all heard the old saying &ldquo\;learn from other&rsquo\;s mistakes.&rdquo\; The presenter\, Bob Moore\, created this seminar from his experiences of owning his own businesses and working for medium and large domestic and international corporations. Opening and operating a small business normally involves a great deal of time and a substantial financial investment. During this seminar\, you will learn the fifteen most common mistakes made by entrepreneurs and many corporations that ultimately undermine the business. Regardless of whether you are opening or operating a business\, regardless of the size of your company\, this seminar will prove to be invaluable in helping you form a legal\, profitable\, and growing business. Make a solid investment in the future survival of your business by planning to attend this informative seminar!<br />\n<br />\nSpeaker(s): Bob Moore
LOCATION:This will be a live webinar presented through Zoom. Meeting and access information for this webinar will be emailed after registration. If you do not see the registration information 48 hours after registering\, please check your spam folder. If you need assistance\, please call 910-755-7498. Please note\, live seminars are not recorded.
UID:e.605.44868
SEQUENCE:3
DTSTAMP:20260425T123450Z
URL:https://business.brunswickcountychamber.org/events/details/15-common-mistakes-that-will-undermine-any-business-01-28-2026-44868
END:VEVENT

END:VCALENDAR
