BEGIN:VCALENDAR
VERSION:2.0
PRODID:-//ChamberMaster//Event Calendar 2.0//EN
METHOD:PUBLISH
X-PUBLISHED-TTL:P3D
REFRESH-INTERVAL:P3D
CALSCALE:GREGORIAN
BEGIN:VEVENT
DTSTART:20250821T210000Z
DTEND:20250821T230000Z
X-MICROSOFT-CDO-ALLDAYEVENT:FALSE
SUMMARY:15 Common Mistakes That Will Undermine Any Business
DESCRIPTION:We have all heard the old saying "learn from other's mistakes."  The presenter\, Bob Moore\, created this seminar from his experiences of owning his own businesses and working for medium and large domestic and international corporations.  Opening and operating a small business normally involves a great deal of time and a substantial financial investment.  During this seminar\, you will learn the fifteen most common mistakes made by entrepreneurs and many corporations that ultimately undermine the business.  Regardless of whether you are opening or operating a business\, regardless of the size of your company\, this seminar will prove to be invaluable in helping you form a legal\, profitable\, and growing business.  Make a solid investment in the future survival of your business by planning to attend this informative seminar!
X-ALT-DESC;FMTTYPE=text/html:We have all heard the old saying &ldquo\;learn from other&rsquo\;s mistakes.&rdquo\;&nbsp\; The presenter\, Bob Moore\, created this seminar from his experiences of owning his own businesses and working for medium and large domestic and international corporations.&nbsp\; Opening and operating a small business normally involves a great deal of time and a substantial financial investment.&nbsp\; During this seminar\, you will learn the fifteen most common mistakes made by entrepreneurs and many corporations that ultimately undermine the business.&nbsp\; Regardless of whether you are opening or operating a business\, regardless of the size of your company\, this seminar will prove to be invaluable in helping you form a legal\, profitable\, and growing business.&nbsp\; Make a solid investment in the future survival of your business by planning to attend this informative seminar!
LOCATION:Online
UID:e.605.44040
SEQUENCE:3
DTSTAMP:20260425T204113Z
URL:https://business.brunswickcountychamber.org/events/details/15-common-mistakes-that-will-undermine-any-business-08-21-2025-44040
END:VEVENT

END:VCALENDAR
