BEGIN:VCALENDAR
VERSION:2.0
PRODID:-//ChamberMaster//Event Calendar 2.0//EN
METHOD:PUBLISH
X-PUBLISHED-TTL:P3D
REFRESH-INTERVAL:P3D
CALSCALE:GREGORIAN
BEGIN:VEVENT
DTSTART:20250813T190000Z
DTEND:20250813T203000Z
X-MICROSOFT-CDO-ALLDAYEVENT:FALSE
SUMMARY:25 Business Ideas & Additional Revenue Streams for 2025
DESCRIPTION:Discover 25 promising business ideas for 2025 that shine even in challenging times.  Whether you're an aspiring entrepreneur finding your path or a business owner seeking new revenue avenues\, this course is for you.  We'll explore fresh opportunities\, established industries\, and the thriving Freelance Economy.
X-ALT-DESC;FMTTYPE=text/html:Discover 25 promising business ideas for 2025 that shine even in challenging times.&nbsp\; Whether you&rsquo\;re an aspiring entrepreneur finding your path or a business owner seeking new revenue avenues\, this course is for you.&nbsp\; We&rsquo\;ll explore fresh opportunities\, established industries\, and the thriving Freelance Economy.
LOCATION:Online
UID:e.605.44038
SEQUENCE:3
DTSTAMP:20260425T204204Z
URL:https://business.brunswickcountychamber.org/events/details/25-business-ideas-additional-revenue-streams-for-2025-44038
END:VEVENT

END:VCALENDAR
