BEGIN:VCALENDAR
VERSION:2.0
PRODID:-//ChamberMaster//Event Calendar 2.0//EN
METHOD:PUBLISH
X-PUBLISHED-TTL:P3D
REFRESH-INTERVAL:P3D
CALSCALE:GREGORIAN
BEGIN:VEVENT
DTSTART:20260327T160000Z
DTEND:20260327T180000Z
X-MICROSOFT-CDO-ALLDAYEVENT:FALSE
SUMMARY:30 Nonprofit Fundraising Tips & Strategies
DESCRIPTION:The success of a Nonprofit Organization may depend on its ability to be innovative and creative in its fundraising efforts. In this fun and informative Webinar\, we will cover 30 tips and strategies that can be utilized to raise funds for your nonprofit. Participants will also be provided a handout with strategies.\n\n\n\nSpeaker(s): Dr. C. Renea Simon Step by Step Business Solutions
X-ALT-DESC;FMTTYPE=text/html:The success of a Nonprofit Organization may depend on its ability to be innovative and creative in its fundraising efforts. In this fun and informative Webinar\, we will cover 30 tips and strategies that can be utilized to raise funds for your nonprofit. Participants will also be provided a handout with strategies.<br />\n<br />\nSpeaker(s): Dr. C. Renea Simon Step by Step Business Solutions
LOCATION:This will be a live webinar presented through Zoom. Meeting and access information for this webinar will be emailed after registration. If you do not see the registration information 48 hours after registering\, please check your spam folder. If you need assistance\, please call 910-755-7498. Please note\, live seminars are not recorded.
UID:e.605.44890
SEQUENCE:3
DTSTAMP:20260422T002648Z
URL:https://business.brunswickcountychamber.org/events/details/30-nonprofit-fundraising-tips-strategies-44890
END:VEVENT

END:VCALENDAR
