BEGIN:VCALENDAR
VERSION:2.0
PRODID:-//ChamberMaster//Event Calendar 2.0//EN
METHOD:PUBLISH
X-PUBLISHED-TTL:P3D
REFRESH-INTERVAL:P3D
CALSCALE:GREGORIAN
BEGIN:VEVENT
DTSTART;VALUE=DATE:20251018
DTEND;VALUE=DATE:20251020
TRANSP:TRANSPARENT
X-MICROSOFT-CDO-ALLDAYEVENT:TRUE
SUMMARY:44th Annual NC Oyster Festival
DESCRIPTION:It's the 44th Annual NC Oyster Festival! Bringing you great entertainment\, delicious food and shopping\, the NC Oyster Festival is a tradition in Brunswick County!
X-ALT-DESC;FMTTYPE=text/html:It&#39\;s the 44th Annual NC Oyster Festival! Bringing you great entertainment\, delicious food and shopping\, the NC Oyster Festival is a tradition in Brunswick County!
LOCATION:OIB Town Center Park 11 E 2nd St\, Ocean Isle Beach\, NC 28469
UID:e.605.42816
SEQUENCE:3
DTSTAMP:20260425T180453Z
URL:https://business.brunswickcountychamber.org/events/details/44th-annual-nc-oyster-festival-42816
END:VEVENT

END:VCALENDAR
