BEGIN:VCALENDAR
VERSION:2.0
PRODID:-//ChamberMaster//Event Calendar 2.0//EN
METHOD:PUBLISH
X-PUBLISHED-TTL:P3D
REFRESH-INTERVAL:P3D
CALSCALE:GREGORIAN
BEGIN:VEVENT
DTSTART;VALUE=DATE:20260828
DTEND;VALUE=DATE:20260829
TRANSP:TRANSPARENT
X-MICROSOFT-CDO-ALLDAYEVENT:TRUE
SUMMARY:5th Annual Brunsco Classic Golf Tournament
DESCRIPTION:The Brunswick County Chamber of Commerce is excited to host this year's Brunsco Classic at the beautifully renovated Sea Trail Golf Resort.\n\n\n\nA special thank you to our Presenting Sponsor\, Makai Brewing\, for five years of continued support. Makai has proudly supported this tournament year after year\, and we are grateful to have them on board once again.\n\n\n\nThis year's event features stunning greens\, raffles\, exclusive giveaways\, and a full day of connection and competition. Team Rate: $400 per 4-person team\n\n\n\nRegistration includes:\n\n  Green fees \n\n  Cart rental\n\n  Luxury gift\n\n  Breakfast near the Pro Shop\n\n  Catered lunch in the Convention Center featuring a build-your-own taco bar\n\n  Amazing giveaways\n\n\n\nAdditional prizes will be awarded immediately following the tournament in the Convention Center. Gather your team and secure your spot today.\n\n\n\nRegister here: https://brunsco-classic-golf-tournament.perfectgolfevent.com/\n\n\n\nWe look forward to seeing you on the course for another unforgettable tournament.
X-ALT-DESC;FMTTYPE=text/html:The Brunswick County Chamber of Commerce is excited to host this year&rsquo\;s Brunsco Classic at the beautifully renovated Sea Trail Golf Resort.<br />\n<br />\nA special thank you to our Presenting Sponsor\, Makai Brewing\, for five years of continued support. Makai has proudly supported this tournament year after year\, and we are grateful to have them on board once again.<br />\n<br />\nThis year&rsquo\;s event features stunning greens\, raffles\, exclusive giveaways\, and a full day of connection and competition. Team Rate: $400 per 4-person team<br />\n<br />\nRegistration includes:<br />\n&bull\; Green fees&nbsp\;<br />\n&bull\;&nbsp\;Cart rental<br />\n&bull\; Luxury gift<br />\n&bull\; Breakfast near the Pro Shop<br />\n&bull\; Catered lunch in the Convention Center featuring a build-your-own taco bar<br />\n&bull\; Amazing giveaways<br />\n<br />\nAdditional prizes will be awarded immediately following the tournament in the Convention Center. Gather your team and secure your spot today.<br />\n<br />\nRegister here: https://brunsco-classic-golf-tournament.perfectgolfevent.com/<br />\n<br />\nWe look forward to seeing you on the course for another unforgettable tournament.
LOCATION:Sea Trail Golf Resort 75 Clubhouse Rd\, Sunset Beach\, NC 28468
UID:e.605.45124
SEQUENCE:3
DTSTAMP:20260421T172316Z
URL:https://business.brunswickcountychamber.org/events/details/5th-annual-brunsco-classic-golf-tournament-45124
END:VEVENT

END:VCALENDAR
