BEGIN:VCALENDAR
VERSION:2.0
PRODID:-//ChamberMaster//Event Calendar 2.0//EN
METHOD:PUBLISH
X-PUBLISHED-TTL:P3D
REFRESH-INTERVAL:P3D
CALSCALE:GREGORIAN
BEGIN:VEVENT
DTSTART:20260311T160000Z
DTEND:20260311T170000Z
X-MICROSOFT-CDO-ALLDAYEVENT:FALSE
SUMMARY:Access to Capital (IN PERSON)
DESCRIPTION:Brunswick Community College Small Business Center and United Community Bank are coming together to bring important information on receiving access to capital. During this lunch & learn we will share resources and programs available for existing business looking to expand and start-ups working on a plan. Being a business owner is not easy\, but you do not have to do it alone. Come and learn more about how your business can be even more successful.\n\n\n\nSpeaker(s): Jennifer Merritt United Community Bank
X-ALT-DESC;FMTTYPE=text/html:Brunswick Community College Small Business Center and United Community Bank are coming together to bring important information on receiving access to capital. During this lunch &amp\; learn we will share resources and programs available for existing business looking to expand and start-ups working on a plan. Being a business owner is not easy\, but you do not have to do it alone. Come and learn more about how your business can be even more successful.<br />\n<br />\nSpeaker(s): Jennifer Merritt United Community Bank
LOCATION:This is an IN PERSON class that will take place at Brunswick Community College Small Business Center in room 204\, located at 2045 Enterprise Boulevard in Leland\, North Carolina\, 28451.
UID:e.605.44886
SEQUENCE:3
DTSTAMP:20260422T002537Z
URL:https://business.brunswickcountychamber.org/events/details/access-to-capital-in-person-44886
END:VEVENT

END:VCALENDAR
