BEGIN:VCALENDAR
VERSION:2.0
PRODID:-//ChamberMaster//Event Calendar 2.0//EN
METHOD:PUBLISH
X-PUBLISHED-TTL:P3D
REFRESH-INTERVAL:P3D
CALSCALE:GREGORIAN
BEGIN:VEVENT
DTSTART:20260324T170000Z
DTEND:20260324T190000Z
X-MICROSOFT-CDO-ALLDAYEVENT:FALSE
SUMMARY:AI for Entrepreneurs: From Foundations to Real World Applications Part 2 (IN PERSON)
DESCRIPTION:This 2-part AI training is intentionally designed to build momentum throughout the day\, with each session stacking directly on the last to maximize learning and practical application for entrepreneurs. The afternoon session builds directly on the morning content and moves into applied\, hands-on use. Entrepreneurs will actively work through real-world business scenarios using AI\, refining prompts\, customizing outputs\, and learning how to integrate these tools into daily workflows. Participants will leave with practical use cases\, repeatable processes\, and clear next steps they can implement immediately in their own businesses. This is a highly interactive\, working session\; participants are strongly encouraged to bring a laptop so they can follow along\, experiment in real time\, and leave with tangible results\, not just ideas. By the end of the day\, entrepreneurs will not only understand AI but also know how to use it strategically to work more effectively\, scale faster\, and remain competitive.
X-ALT-DESC;FMTTYPE=text/html:This 2-part AI training is intentionally designed to build momentum throughout the day\, with each session stacking directly on the last to maximize learning and practical application for entrepreneurs. The afternoon session builds directly on the morning content and moves into applied\, hands-on use. Entrepreneurs will actively work through real-world business scenarios using AI\, refining prompts\, customizing outputs\, and learning how to integrate these tools into daily workflows. Participants will leave with practical use cases\, repeatable processes\, and clear next steps they can implement immediately in their own businesses. This is a highly interactive\, working session\; participants are strongly encouraged to bring a laptop so they can follow along\, experiment in real time\, and leave with tangible results\, not just ideas. By the end of the day\, entrepreneurs will not only understand AI but also know how to use it strategically to work more effectively\, scale faster\, and remain competitive.
LOCATION:Brunswick Community College Main Campus 50 College Rd. Bolivia\, NC Bulidng A\, Room Culinary Center
UID:e.605.44919
SEQUENCE:3
DTSTAMP:20260422T002705Z
URL:https://business.brunswickcountychamber.org/events/details/ai-for-entrepreneurs-from-foundations-to-real-world-applications-part-2-in-person-44919
END:VEVENT

END:VCALENDAR
