BEGIN:VCALENDAR
VERSION:2.0
PRODID:-//ChamberMaster//Event Calendar 2.0//EN
METHOD:PUBLISH
X-PUBLISHED-TTL:P3D
REFRESH-INTERVAL:P3D
CALSCALE:GREGORIAN
BEGIN:VEVENT
DTSTART:20250925T111500Z
DTEND:20250925T210000Z
X-MICROSOFT-CDO-ALLDAYEVENT:FALSE
SUMMARY:Annual Charity Golf Outing
DESCRIPTION:Mark your calendars for September 25\, 2025\, and join us for our Annual Brunswick County Habitat for Humanity Golf Tournament! Set against the beautiful backdrop of the Thistle Golf Club. This exciting event promises a day of fun\, friendly competition\, and community spirit\, all while supporting a great cause. Shotgun start at 8:30 am. Registration begins at 7:15am.\n\nDon't miss out on this opportunity to register your foursome\, gather your friends\, colleagues\, or family members to join in the fun and compete for prizes while supporting our mission.\n\nThe Team Fee includes Green Fees\, Cart\, Breakfast and Lunch.\n\nFor questions\, please email theresa@bchabitat.org or call 910-454-0007 ext 1007
X-ALT-DESC;FMTTYPE=text/html:<p style="text-align:start">Mark your calendars for September&nbsp\;25\,&nbsp\;2025\, and join us for our Annual Brunswick County Habitat for Humanity Golf Tournament! Set against the beautiful backdrop of the Thistle Golf Club.&nbsp\;This exciting event promises a day of fun\, friendly competition\, and community spirit\, all while supporting a great cause. Shotgun start&nbsp\;at&nbsp\;<strong>8:30 am</strong>. Registration begins&nbsp\;at&nbsp\;<strong>7:15am.</strong></p>\n\n<p style="text-align:start">Don&#39\;t miss out on this opportunity to register your foursome\, gather your friends\, colleagues\, or family members to join in the fun and compete for prizes while supporting our mission.</p>\n\n<p style="text-align:start">The Team Fee includes Green Fees\, Cart\, Breakfast and Lunch.</p>\n\n<p style="text-align:start">For questions\, please email&nbsp\;<a href="mailto:theresa@bchabitat.org" style="box-sizing: border-box\; border: 0px\; font-size: 17px\; font-style: inherit\; font-weight: inherit\; margin: 0px\; outline: 0px\; padding: 0px\; vertical-align: baseline\; background-color: transparent\; text-decoration: none\; color: rgb(0\, 47\, 108)\; transition: 0.2s linear\;">theresa@bchabitat.org</a>&nbsp\;or call 910-454-0007 ext 1007</p>\n
LOCATION:Thistle Golf Club in SunThistle Golf Club in Sunset Beachset Beach
UID:e.605.44044
SEQUENCE:3
DTSTAMP:20260425T192317Z
URL:https://business.brunswickcountychamber.org/events/details/annual-charity-golf-outing-44044
END:VEVENT

END:VCALENDAR
