BEGIN:VCALENDAR
VERSION:2.0
PRODID:-//ChamberMaster//Event Calendar 2.0//EN
METHOD:PUBLISH
X-PUBLISHED-TTL:P3D
REFRESH-INTERVAL:P3D
CALSCALE:GREGORIAN
BEGIN:VEVENT
DTSTART:20260313T203000Z
DTEND:20260313T220000Z
X-MICROSOFT-CDO-ALLDAYEVENT:FALSE
SUMMARY:Annual Fish Fry VFW Calabash Post #7288
DESCRIPTION:VFW Calabash Post #7288 is hosting their Annual Fish Fries\n\nevery Friday night from February 20th until April 3rd\, 2026.\n\n\n\nMeals are provided dine-in or take-out from 4:30 - 6:00 pm. \n\n\n\nJoin us for fried Haddock (prepared fresh while you wait)\n\nwith baked potato and coleslaw for $15.  \n\n\n\nVFW Calabash Post #7288\n\n900 Carter Drive SW\n\nCalabash\, NC 28467\n\n\n\nProceeds support your local Veterans.
X-ALT-DESC;FMTTYPE=text/html:<div style="text-align:center"><span style="font-size:14px"><span style="font-family:arial\,helvetica\,sans-serif">VFW Calabash Post #7288 is hosting their Annual Fish Fries<br />\nevery Friday night from February 20th until April 3rd\, 2026.<br />\n<br />\nMeals are provided dine-in or take-out from 4:30 - 6:00 pm.&nbsp\;<br />\n<br />\nJoin us for fried Haddock (prepared fresh while you wait)<br />\nwith baked potato and coleslaw for $15.&nbsp\;&nbsp\;<br />\n<br />\nVFW Calabash Post #7288<br />\n900 Carter Drive SW<br />\nCalabash\, NC 28467<br />\n<br />\nProceeds support your local Veterans.</span></span></div>\n
LOCATION:VFW Calabash Post #7288 900 Carter Drive SW Calabash\, NC 28467
UID:e.605.45132
SEQUENCE:3
DTSTAMP:20260422T002706Z
URL:https://business.brunswickcountychamber.org/events/details/annual-fish-fry-vfw-calabash-post-7288-03-13-2026-45132
END:VEVENT

END:VCALENDAR
