BEGIN:VCALENDAR
VERSION:2.0
PRODID:-//ChamberMaster//Event Calendar 2.0//EN
METHOD:PUBLISH
X-PUBLISHED-TTL:P3D
REFRESH-INTERVAL:P3D
CALSCALE:GREGORIAN
BEGIN:VEVENT
DTSTART:20260127T123000Z
DTEND:20260127T150000Z
X-MICROSOFT-CDO-ALLDAYEVENT:FALSE
SUMMARY:Annual Membership Meeting
DESCRIPTION:The Annual Membership Meeting brings Chamber members together to reflect on the previous year\, hear updates from staff and the Board of Directors\, recognize outgoing and incoming Board members\, and share goals for the year ahead. This is a member-only event and free of charge. Light refreshments such as coffee\, drinks\, and donuts will be served.\n\nSeats are limited. Registration is required.
X-ALT-DESC;FMTTYPE=text/html:<p data-end="818" data-start="450">The Annual Membership Meeting brings Chamber members together to reflect on the previous year\, hear updates from staff and the Board of Directors\, recognize outgoing and incoming Board members\, and share goals for the year ahead. This is a member-only event and free of charge. Light refreshments such as coffee\, drinks\, and donuts will be served.</p>\n\n<p data-end="882" data-start="820">Seats are limited. <strong data-end="882" data-start="853">Registration is required.</strong></p>\n
LOCATION:The Links at Brick Landing 1882 Goose Creek Rd SW Ocean Isle Beach\, NC 28469
UID:e.605.44912
SEQUENCE:3
DTSTAMP:20260425T123447Z
URL:https://business.brunswickcountychamber.org/events/details/annual-membership-meeting-44912
END:VEVENT

END:VCALENDAR
