BEGIN:VCALENDAR
VERSION:2.0
PRODID:-//ChamberMaster//Event Calendar 2.0//EN
METHOD:PUBLISH
X-PUBLISHED-TTL:P3D
REFRESH-INTERVAL:P3D
CALSCALE:GREGORIAN
BEGIN:VEVENT
DTSTART:20260305T170000Z
DTEND:20260305T190000Z
X-MICROSOFT-CDO-ALLDAYEVENT:FALSE
SUMMARY:Basic Information on Permitting & Guidelines for Restaurants & Food Trucks
DESCRIPTION:Are you thinking about cooking and selling food in a restaurant or via a mobile food unit? If you answered yes\, then you should attend this fact-filled seminar. Here you will learn the NC rules governing food establishments\, the permitting process and special guidelines for a mobile food unit.\n\n\n\nSpeaker(s): Lynn Elvington Brunswick County Health Department
X-ALT-DESC;FMTTYPE=text/html:<br />\nAre you thinking about cooking and selling food in a restaurant or via a mobile food unit? If you answered yes\, then you should attend this fact-filled seminar. Here you will learn the NC rules governing food establishments\, the permitting process and special guidelines for a mobile food unit.<br />\n<br />\nSpeaker(s): Lynn Elvington Brunswick County Health Department
LOCATION:This will be a live webinar presented through Zoom. Meeting and access information for this webinar will be emailed after registration. If you do not see the registration information 48 hours after registering\, please check your spam folder. If you need assistance\, please call 910-755-7498. Please note\, live seminars are not recorded.
UID:e.605.44884
SEQUENCE:3
DTSTAMP:20260422T014901Z
URL:https://business.brunswickcountychamber.org/events/details/basic-information-on-permitting-guidelines-for-restaurants-food-trucks-03-05-2026-44884
END:VEVENT

END:VCALENDAR
