BEGIN:VCALENDAR
VERSION:2.0
PRODID:-//ChamberMaster//Event Calendar 2.0//EN
METHOD:PUBLISH
X-PUBLISHED-TTL:P3D
REFRESH-INTERVAL:P3D
CALSCALE:GREGORIAN
BEGIN:VEVENT
DTSTART;VALUE=DATE:20260207
DTEND;VALUE=DATE:20260208
TRANSP:TRANSPARENT
X-MICROSOFT-CDO-ALLDAYEVENT:TRUE
SUMMARY:Brunswick Community College Bella Italia Gala
DESCRIPTION:Join us for the 10th Annual Bella Italia Gala\, an evening of fine dining & philanthropy in support of the mission of The Foundation of BCC.\n\nEvent Date: Saturday\, February 7\, 2026\n\nLocation: Sea Trail Convention Center\, Sunset Beach\, NC\n\nAt Bella Italia\, every course tells a story. Guests will be treated to a multi-course Italian dinner thoughtfully paired with wines\, creating an immersive culinary experience that feels like an evening in Italy no passport required.\n\nThroughout the evening\, guests will enjoy:\n\n\n	A gourmet Italian-inspired menu with wine pairings\n	Special remarks and exciting updates from President Gene Smith and Foundation Executive Director Teresa Nelson\n	Heartfelt stories from BCC Student Ambassadors\, sharing how donor support has shaped their journeys\n	Opportunities to support scholarships and programs that change lives at BCC\n	Photo opportunities\, raffles\, live auction\, music\, and dancing\n\n\nThis year's gala marks two exciting milestones:\n\n\n	The 10th anniversary of Bella Italia\n	Our first year at Sea Trail Convention Center\, a stunning coastal venue that offers the perfect backdrop for an unforgettable evening\n\n\n\n\nSponsorship Opportunities: https://brunswickcc.edu/bella-italia-sponsor-partner-form/
X-ALT-DESC;FMTTYPE=text/html:<p style="font-variant-numeric: inherit\; font-variant-east-asian: inherit\; font-variant-alternates: inherit\; font-variant-position: inherit\; font-variant-emoji: inherit\; font-stretch: inherit\; font-size: 16px\; line-height: inherit\; font-family: Barlow\, sans-serif\; font-optical-sizing: inherit\; font-size-adjust: inherit\; font-kerning: inherit\; font-feature-settings: inherit\; font-variation-settings: inherit\; font-language-override: inherit\; padding: 0px\; border: 0px\; margin: 1em 0px\; vertical-align: baseline\; overflow-wrap: break-word\; color: rgb(0\, 43\, 90)\;"><span style="font-size:16px\;">Join us for the 10th Annual Bella Italia Gala\, an evening of fine dining &amp\; philanthropy in support of the mission of The Foundation of BCC.</span></p>\n\n<p style="font-variant-numeric: inherit\; font-variant-east-asian: inherit\; font-variant-alternates: inherit\; font-variant-position: inherit\; font-variant-emoji: inherit\; font-stretch: inherit\; font-size: 16px\; line-height: inherit\; font-family: Barlow\, sans-serif\; font-optical-sizing: inherit\; font-size-adjust: inherit\; font-kerning: inherit\; font-feature-settings: inherit\; font-variation-settings: inherit\; font-language-override: inherit\; padding: 0px\; border: 0px\; margin: 1em 0px\; vertical-align: baseline\; overflow-wrap: break-word\; color: rgb(0\, 43\, 90)\;"><span style="font-size:16px\;"><span style="font-style: inherit\; font-variant: inherit\; font-weight: 700\; font-stretch: inherit\; line-height: inherit\; font-family: inherit\; font-optical-sizing: inherit\; font-size-adjust: inherit\; font-kerning: inherit\; font-feature-settings: inherit\; font-variation-settings: inherit\; font-language-override: inherit\; padding: 0px\; border: 0px\; margin: 0px\; vertical-align: baseline\;">Event Date:</span>&nbsp\;Saturday\, February 7\, 2026<br />\n<span style="font-style: inherit\; font-variant: inherit\; font-weight: 700\; font-stretch: inherit\; line-height: inherit\; font-family: inherit\; font-optical-sizing: inherit\; font-size-adjust: inherit\; font-kerning: inherit\; font-feature-settings: inherit\; font-variation-settings: inherit\; font-language-override: inherit\; padding: 0px\; border: 0px\; margin: 0px\; vertical-align: baseline\;">Location:</span>&nbsp\;Sea Trail Convention Center\, Sunset Beach\, NC</span></p>\n\n<p data-end="1090" data-start="852" style="font-variant-numeric: inherit\; font-variant-east-asian: inherit\; font-variant-alternates: inherit\; font-variant-position: inherit\; font-variant-emoji: inherit\; font-stretch: inherit\; font-size: 16px\; line-height: inherit\; font-family: Barlow\, sans-serif\; font-optical-sizing: inherit\; font-size-adjust: inherit\; font-kerning: inherit\; font-feature-settings: inherit\; font-variation-settings: inherit\; font-language-override: inherit\; padding: 0px\; border: 0px\; margin: 1em 0px\; vertical-align: baseline\; overflow-wrap: break-word\; color: rgb(0\, 43\, 90)\;"><span style="font-size:16px\;">At Bella Italia\, every course tells a story. Guests will be treated to a multi-course Italian dinner thoughtfully paired with wines\, creating an immersive culinary experience that feels like an evening in Italy&mdash\;no passport required.</span></p>\n\n<p data-end="1134" data-start="1092" style="font-variant-numeric: inherit\; font-variant-east-asian: inherit\; font-variant-alternates: inherit\; font-variant-position: inherit\; font-variant-emoji: inherit\; font-stretch: inherit\; font-size: 16px\; line-height: inherit\; font-family: Barlow\, sans-serif\; font-optical-sizing: inherit\; font-size-adjust: inherit\; font-kerning: inherit\; font-feature-settings: inherit\; font-variation-settings: inherit\; font-language-override: inherit\; padding: 0px\; border: 0px\; margin: 1em 0px\; vertical-align: baseline\; overflow-wrap: break-word\; color: rgb(0\, 43\, 90)\;"><span style="font-size:16px\;">Throughout the evening\, guests will enjoy:</span></p>\n\n<ul style="box-sizing: border-box\; font-variant-numeric: inherit\; font-variant-east-asian: inherit\; font-variant-alternates: inherit\; font-variant-position: inherit\; font-variant-emoji: inherit\; font-stretch: inherit\; font-size: 16px\; line-height: inherit\; font-family: Barlow\, sans-serif\; font-optical-sizing: inherit\; font-size-adjust: inherit\; font-kerning: inherit\; font-feature-settings: inherit\; font-variation-settings: inherit\; font-language-override: inherit\; padding-right: 0px\; padding-left: 1.5em\; border: 0px\; margin: 0.25em 0px\; vertical-align: baseline\; list-style: outside square\; color: rgb(0\, 43\, 90)\;">\n	<li style="font: inherit\; padding: 0px\; border: 0px\; margin: 0.5em\; vertical-align: baseline\;"><span style="font-size:16px\;">A gourmet Italian-inspired menu with wine pairings</span></li>\n	<li style="font: inherit\; padding: 0px\; border: 0px\; margin: 0.5em\; vertical-align: baseline\;"><span style="font-size:16px\;">Special remarks and exciting updates from President Gene Smith and Foundation Executive Director Teresa Nelson</span></li>\n	<li style="font: inherit\; padding: 0px\; border: 0px\; margin: 0.5em\; vertical-align: baseline\;"><span style="font-size:16px\;">Heartfelt stories from BCC Student Ambassadors\, sharing how donor support has shaped their journeys</span></li>\n	<li style="font: inherit\; padding: 0px\; border: 0px\; margin: 0.5em\; vertical-align: baseline\;"><span style="font-size:16px\;">Opportunities to support scholarships and programs that change lives at BCC</span></li>\n	<li style="font: inherit\; padding: 0px\; border: 0px\; margin: 0.5em\; vertical-align: baseline\;"><span style="font-size:16px\;">Photo opportunities\, raffles\, live auction\, music\, and dancing</span></li>\n</ul>\n\n<p data-end="1597" data-start="1548" style="font-variant-numeric: inherit\; font-variant-east-asian: inherit\; font-variant-alternates: inherit\; font-variant-position: inherit\; font-variant-emoji: inherit\; font-stretch: inherit\; font-size: 16px\; line-height: inherit\; font-family: Barlow\, sans-serif\; font-optical-sizing: inherit\; font-size-adjust: inherit\; font-kerning: inherit\; font-feature-settings: inherit\; font-variation-settings: inherit\; font-language-override: inherit\; padding: 0px\; border: 0px\; margin: 1em 0px\; vertical-align: baseline\; overflow-wrap: break-word\; color: rgb(0\, 43\, 90)\;"><span style="font-size:16px\;">This year&rsquo\;s gala marks two exciting milestones:</span></p>\n\n<ul style="box-sizing: border-box\; font-variant-numeric: inherit\; font-variant-east-asian: inherit\; font-variant-alternates: inherit\; font-variant-position: inherit\; font-variant-emoji: inherit\; font-stretch: inherit\; font-size: 16px\; line-height: inherit\; font-family: Barlow\, sans-serif\; font-optical-sizing: inherit\; font-size-adjust: inherit\; font-kerning: inherit\; font-feature-settings: inherit\; font-variation-settings: inherit\; font-language-override: inherit\; padding-right: 0px\; padding-left: 1.5em\; border: 0px\; margin: 0.25em 0px\; vertical-align: baseline\; list-style: outside square\; color: rgb(0\, 43\, 90)\;">\n	<li data-end="1642" data-start="1600" style="font: inherit\; padding: 0px\; border: 0px\; margin: 0.5em\; vertical-align: baseline\;"><span style="font-size:16px\;">The 10th anniversary of Bella Italia</span></li>\n	<li data-end="1642" data-start="1600" style="font: inherit\; padding: 0px\; border: 0px\; margin: 0.5em\; vertical-align: baseline\;"><span style="font-size:16px\;">Our first year at Sea Trail Convention Center\, a stunning coastal venue that offers the perfect backdrop for an unforgettable evening</span></li>\n</ul>\n\n<div style="font: inherit\; padding: 0px\; border: 0px\; margin: 0.5em\; vertical-align: baseline\;"><br />\n<span style="font-size:16px\;">Sponsorship Opportunities:&nbsp\;https://brunswickcc.edu/bella-italia-sponsor-partner-form/</span></div>\n
LOCATION:Sea Trail Convention Center\, Sunset Beach\, NC
UID:e.605.45046
SEQUENCE:3
DTSTAMP:20260425T123522Z
URL:https://business.brunswickcountychamber.org/events/details/brunswick-community-college-bella-italia-gala-45046
END:VEVENT

END:VCALENDAR
