BEGIN:VCALENDAR
VERSION:2.0
PRODID:-//ChamberMaster//Event Calendar 2.0//EN
METHOD:PUBLISH
X-PUBLISHED-TTL:P3D
REFRESH-INTERVAL:P3D
CALSCALE:GREGORIAN
BEGIN:VEVENT
DTSTART:20111205T003000Z
DTEND:20111205T020000Z
X-MICROSOFT-CDO-ALLDAYEVENT:FALSE
SUMMARY:Brunswick County Concert Band Christmas Concert
DESCRIPTION:Brunswick County Concert Band\, Big Band\, BLT Singers\n\nChristmas Concert
X-ALT-DESC;FMTTYPE=text/html:Brunswick County Concert Band\, Big Band\, BLT Singers<br />\nChristmas Concert
LOCATION:Odell Williamson Auditorium\, Brunswick Community College
UID:e.605.2050
SEQUENCE:3
DTSTAMP:20260419T144838Z
URL:https://business.brunswickcountychamber.org/events/details/brunswick-county-concert-band-christmas-concert-12-04-2011-2050
END:VEVENT

END:VCALENDAR
