BEGIN:VCALENDAR
VERSION:2.0
PRODID:-//ChamberMaster//Event Calendar 2.0//EN
METHOD:PUBLISH
X-PUBLISHED-TTL:P3D
REFRESH-INTERVAL:P3D
CALSCALE:GREGORIAN
BEGIN:VEVENT
DTSTART:20260120T223000Z
DTEND:20260121T000000Z
X-MICROSOFT-CDO-ALLDAYEVENT:FALSE
SUMMARY:Business Tax Soup - Wait….. There's More !
DESCRIPTION:In this course you will learn: 1) Basics of NC sales tax and resources for compliance 2) Software solutions for charging\, collecting and remitting sales tax 3) Basics of local taxes including Brunswick County business personal property tax 4) What is a privilege license 5) Basics of NC corporate franchise tax 6) Other industry specific taxes\n\n\n\nSpeaker(s): Amanda Chestnut\, JD\, Accountant\, Money Mastery
X-ALT-DESC;FMTTYPE=text/html:In this course you will learn: 1) Basics of NC sales tax and resources for compliance 2) Software solutions for charging\, collecting and remitting sales tax 3) Basics of local taxes including Brunswick County business personal property tax 4) What is a privilege license 5) Basics of NC corporate franchise tax 6) Other industry specific taxes<br />\n<br />\nSpeaker(s): Amanda Chestnut\, JD\, Accountant\, Money Mastery
LOCATION:This will be a live webinar presented through Zoom. Meeting and access information for this webinar will be emailed after registration. If you do not see the registration information 48 hours after registering\, please check your spam folder. If you need assistance\, please call 910-755-7498. Please note\, live seminars are not recorded.
UID:e.605.44865
SEQUENCE:3
DTSTAMP:20260425T123521Z
URL:https://business.brunswickcountychamber.org/events/details/business-tax-soup-wait-there-s-more-44865
END:VEVENT

END:VCALENDAR
