BEGIN:VCALENDAR
VERSION:2.0
PRODID:-//ChamberMaster//Event Calendar 2.0//EN
METHOD:PUBLISH
X-PUBLISHED-TTL:P3D
REFRESH-INTERVAL:P3D
CALSCALE:GREGORIAN
BEGIN:VEVENT
DTSTART:20251112T223000Z
DTEND:20251113T003000Z
X-MICROSOFT-CDO-ALLDAYEVENT:FALSE
SUMMARY:Business Taxes 101- Part 5
DESCRIPTION:Gain a solid understanding of taxes required for small business owners and develop the best tax strategy for your business. Become familiar with the latest tax forms and procedures for both state and federal taxes. Discover how everyday business decisions can have tax implications that can affect your bottom line. This seminar is important for both new and experienced business owners.\n\n\n\nSpeaker(s): tenBiz
X-ALT-DESC;FMTTYPE=text/html:Gain a solid understanding of taxes required for small business owners and develop the best tax strategy for your business. Become familiar with the latest tax forms and procedures for both state and federal taxes. Discover how everyday business decisions can have tax implications that can affect your bottom line. This seminar is important for both new and experienced business owners.<br />\n<br />\nSpeaker(s): tenBiz
LOCATION:This will be a live webinar presented through Zoom. Meeting and access information for this webinar will be available upon registration & a registration reminder will be provided via email. If you need assistance\, please call 910-755-7498
UID:e.605.44848
SEQUENCE:3
DTSTAMP:20260425T164258Z
URL:https://business.brunswickcountychamber.org/events/details/business-taxes-101-part-5-44848
END:VEVENT

END:VCALENDAR
