BEGIN:VCALENDAR
VERSION:2.0
PRODID:-//ChamberMaster//Event Calendar 2.0//EN
METHOD:PUBLISH
X-PUBLISHED-TTL:P3D
REFRESH-INTERVAL:P3D
CALSCALE:GREGORIAN
BEGIN:VEVENT
DTSTART:20251111T170000Z
DTEND:20251111T183000Z
X-MICROSOFT-CDO-ALLDAYEVENT:FALSE
SUMMARY:Canva Design Basics - Part 1
DESCRIPTION:Canva is a powerful\, free design tool that you can use to create professional graphics\, short videos\, and print materials. Join this session to learn how to set up and use Canva\, how to create eye-catching images using this software\, and how to use other powerful features of this fantastic and user-friendly tool. This session consists of instruction and hands-on experience. No software or graphic design knowledge is needed. Audience: Beginner to Intermediate\n\n\n\n*Please note this is a four-part series\, individual registration is required.  You can view and register for others here.
X-ALT-DESC;FMTTYPE=text/html:Canva is a powerful\, free design tool that you can use to create professional graphics\, short videos\, and print materials. Join this session to learn how to set up and use Canva\, how to create eye-catching images using this software\, and how to use other powerful features of this fantastic and user-friendly tool. This session consists of instruction and hands-on experience. No software or graphic design knowledge is needed. Audience: Beginner to Intermediate<br />\n<br />\n*Please note this is a four-part series\, individual registration is required.&nbsp\; You can view and register for others <a href="https://www.ncsbc.net/Events.aspx?mode=4&amp\;area=Alamance+County&amp\;zip=&amp\;miles=25&amp\;center=75060&amp\;topicnum=10&amp\;format=0&amp\;days=360&amp\;lang=0&amp\;sort=M&amp\;layout=0">here</a>.
LOCATION:Online
UID:e.605.39252
SEQUENCE:3
DTSTAMP:20260425T164043Z
URL:https://business.brunswickcountychamber.org/events/details/canva-design-basics-for-your-small-business-39252
END:VEVENT

END:VCALENDAR
