BEGIN:VCALENDAR
VERSION:2.0
PRODID:-//ChamberMaster//Event Calendar 2.0//EN
METHOD:PUBLISH
X-PUBLISHED-TTL:P3D
REFRESH-INTERVAL:P3D
CALSCALE:GREGORIAN
BEGIN:VEVENT
DTSTART:20251007T170000Z
DTEND:20251007T200000Z
X-MICROSOFT-CDO-ALLDAYEVENT:FALSE
SUMMARY:CE Classes for 2025
DESCRIPTION:"Fundamentals of Dwelling & HO Policies       Course # 203532   3 CE hours
X-ALT-DESC;FMTTYPE=text/html:&ldquo\;Fundamentals of Dwelling &amp\; HO Policies&nbsp\; &nbsp\; &nbsp\; &nbsp\;Course # 203532 &ndash\; 3 CE hours
LOCATION:Zoom
UID:e.605.43112
SEQUENCE:3
DTSTAMP:20260425T175313Z
URL:https://business.brunswickcountychamber.org/events/details/ce-classes-for-2025-10-07-2025-43112
END:VEVENT

END:VCALENDAR
