BEGIN:VCALENDAR
VERSION:2.0
PRODID:-//ChamberMaster//Event Calendar 2.0//EN
METHOD:PUBLISH
X-PUBLISHED-TTL:P3D
REFRESH-INTERVAL:P3D
CALSCALE:GREGORIAN
BEGIN:VEVENT
DTSTART:20260211T223000Z
DTEND:20260212T003000Z
X-MICROSOFT-CDO-ALLDAYEVENT:FALSE
SUMMARY:Collecting Your Money and Paying Your Bills - Part 2
DESCRIPTION:During this seminar\, you will gain insight on the following: 1. Learn how to set up Customers 2. Create Estimates & Invoices 3. Send Invoices directly out of QuickBooks 4. Advanced Payment Features such as Automatic & Recurring Payments 5. Set up Vendors\, Set up 1099 Tracking & E-File 6. Track Expenses and Bills 7. Learn how to apply Bill payments 8. Learn Basic Reports: Who Owes You Money and What You Owe your Vendors. Two of the most important pieces to your cash flow puzzle.\n\n\n\nSpeaker(s): Amanda Chestnut\, JD\, Accountant\, Money Mastery
X-ALT-DESC;FMTTYPE=text/html:During this seminar\, you will gain insight on the following: 1. Learn how to set up Customers 2. Create Estimates &amp\; Invoices 3. Send Invoices directly out of QuickBooks 4. Advanced Payment Features such as Automatic &amp\; Recurring Payments 5. Set up Vendors\, Set up 1099 Tracking &amp\; E-File 6. Track Expenses and Bills 7. Learn how to apply Bill payments 8. Learn Basic Reports: Who Owes You Money and What You Owe your Vendors. Two of the most important pieces to your cash flow puzzle.<br />\n<br />\nSpeaker(s): Amanda Chestnut\, JD\, Accountant\, Money Mastery
LOCATION:This will be a live webinar presented through Zoom. Meeting and access information for this webinar will be emailed after registration. If you do not see the registration information 48 hours after registering\, please check your spam folder. If you need assistance\, please call 910-755-7498. Please note\, live seminars are not recorded
UID:e.605.44873
SEQUENCE:3
DTSTAMP:20260425T123536Z
URL:https://business.brunswickcountychamber.org/events/details/collecting-your-money-and-paying-your-bills-part-2-44873
END:VEVENT

END:VCALENDAR
