BEGIN:VCALENDAR
VERSION:2.0
PRODID:-//ChamberMaster//Event Calendar 2.0//EN
METHOD:PUBLISH
X-PUBLISHED-TTL:P3D
REFRESH-INTERVAL:P3D
CALSCALE:GREGORIAN
BEGIN:VEVENT
DTSTART:20260303T223000Z
DTEND:20260304T000000Z
X-MICROSOFT-CDO-ALLDAYEVENT:FALSE
SUMMARY:Create A YouTube Account for Small Business – Part 1
DESCRIPTION:Video Marketing is the #1 way to promote your business online. This workshop is designed to give business owners an advantage over their competitors by learning how to set up a YouTube account\, how to upload videos\, and how to use YouTube to promote their company. Key points that will be covered will be account creation\, choosing the right thumbnail\, writing effective titles and descriptions\, and how to utilize keywords and taglines to promote their videos. The workshop will consist of a step by step walkthrough of all the topics and written step by step instructions.\n\n\n\nSpeaker(s): Dr. C. Renea Simon Step by Step Business Solutions
X-ALT-DESC;FMTTYPE=text/html:<br />\nVideo Marketing is the #1 way to promote your business online. This workshop is designed to give business owners an advantage over their competitors by learning how to set up a YouTube account\, how to upload videos\, and how to use YouTube to promote their company. Key points that will be covered will be account creation\, choosing the right thumbnail\, writing effective titles and descriptions\, and how to utilize keywords and taglines to promote their videos. The workshop will consist of a step by step walkthrough of all the topics and written step by step instructions.<br />\n<br />\nSpeaker(s): Dr. C. Renea Simon Step by Step Business Solutions
LOCATION:This will be a live webinar presented through Zoom. Meeting and access information for this webinar will be emailed after registration. If you do not see the registration information 48 hours after registering\, please check your spam folder. If you need assistance\, please call 910-755-7498. Please note\, live seminars are not recorded.
UID:e.605.44882
SEQUENCE:3
DTSTAMP:20260422T015044Z
URL:https://business.brunswickcountychamber.org/events/details/create-a-youtube-account-for-small-business-part-1-03-03-2026-44882
END:VEVENT

END:VCALENDAR
