BEGIN:VCALENDAR
VERSION:2.0
PRODID:-//ChamberMaster//Event Calendar 2.0//EN
METHOD:PUBLISH
X-PUBLISHED-TTL:P3D
REFRESH-INTERVAL:P3D
CALSCALE:GREGORIAN
BEGIN:VEVENT
DTSTART:20260205T220000Z
DTEND:20260206T000000Z
X-MICROSOFT-CDO-ALLDAYEVENT:FALSE
SUMMARY:Create Your Own WIX Website For Beginners - Part 1
DESCRIPTION:Your website is the face of your business online and the perfect way to inform customers of who you are\, what you do\, and why they should buy from you. In this course we will explore the WIX platform and review website fundamentals. Next\, we will cover some do's and don'ts of website development and how website maintenance and hosting works. Finally participants will set up their WIX accounts and create a practice WIX Website using the WIX ADI Editor.\n\n\n\nSpeaker(s): Dr. C. Renae Simon\, Step by Step Business Solutions
X-ALT-DESC;FMTTYPE=text/html:Your website is the face of your business online and the perfect way to inform customers of who you are\, what you do\, and why they should buy from you. In this course we will explore the WIX platform and review website fundamentals. Next\, we will cover some do&#39\;s and don&#39\;ts of website development and how website maintenance and hosting works. Finally participants will set up their WIX accounts and create a practice WIX Website using the WIX ADI Editor.<br />\n<br />\nSpeaker(s): Dr. C. Renae Simon\, Step by Step Business Solutions
LOCATION:This will be a live webinar presented through Zoom. Meeting and access information for this webinar will be emailed after registration. If you do not see the registration information 48 hours after registering\, please check your spam folder. If you need assistance\, please call 910-755-7498. Please note\, live seminars are not recorded.
UID:e.605.44871
SEQUENCE:3
DTSTAMP:20260425T112216Z
URL:https://business.brunswickcountychamber.org/events/details/create-your-own-wix-website-for-beginners-part-1-44871
END:VEVENT

END:VCALENDAR
