BEGIN:VCALENDAR
VERSION:2.0
PRODID:-//ChamberMaster//Event Calendar 2.0//EN
METHOD:PUBLISH
X-PUBLISHED-TTL:P3D
REFRESH-INTERVAL:P3D
CALSCALE:GREGORIAN
BEGIN:VEVENT
DTSTART:20260219T220000Z
DTEND:20260220T000000Z
X-MICROSOFT-CDO-ALLDAYEVENT:FALSE
SUMMARY:Create Your Own WIX Website For Beginners - Part 3
DESCRIPTION:What good is a nice website if no one knows about it? In this course\, students will learn the basics of how websites are found online (Search Engine Optimization) and how to create Keywords that help their customers find them online. Participants will learn how to set up a Google My Business account and how Social Media Accounts drive business to your website. We will discuss how to utilize tools and analytics to measure who has been visiting the website and where they came from. Next\, we will cover the importance of Website Maintenance\, and how they can utilize apps to help them streamline it. Lastly\, students will utilize a sample template or their business website in WIX to setup SEO using the WIX tools and apps. In this webinar\, students can watch me walk through it on my screen and then do it on their own computers. They will be sent resources on how to set up their Google My Business Account and How to Add SEO on WIX.\n\n\n\nSpeaker(s): Dr. C. Renae Simon\, Step by Step Business Solutions
X-ALT-DESC;FMTTYPE=text/html:What good is a nice website if no one knows about it? In this course\, students will learn the basics of how websites are found online (Search Engine Optimization) and how to create Keywords that help their customers find them online. Participants will learn how to set up a Google My Business account and how Social Media Accounts drive business to your website. We will discuss how to utilize tools and analytics to measure who has been visiting the website and where they came from. Next\, we will cover the importance of Website Maintenance\, and how they can utilize apps to help them streamline it. Lastly\, students will utilize a sample template or their business website in WIX to setup SEO using the WIX tools and apps. In this webinar\, students can watch me walk through it on my screen and then do it on their own computers. They will be sent resources on how to set up their Google My Business Account and How to Add SEO on WIX.<br />\n<br />\nSpeaker(s): Dr. C. Renae Simon\, Step by Step Business Solutions
LOCATION:This will be a live webinar presented through Zoom. Meeting and access information for this webinar will be emailed after registration. If you do not see the registration information 48 hours after registering\, please check your spam folder. If you need assistance\, please call 910-755-7498. Please note\, live seminars are not recorded.
UID:e.605.44876
SEQUENCE:3
DTSTAMP:20260425T112217Z
URL:https://business.brunswickcountychamber.org/events/details/create-your-own-wix-website-for-beginners-part-3-44876
END:VEVENT

END:VCALENDAR
