BEGIN:VCALENDAR
VERSION:2.0
PRODID:-//ChamberMaster//Event Calendar 2.0//EN
METHOD:PUBLISH
X-PUBLISHED-TTL:P3D
REFRESH-INTERVAL:P3D
CALSCALE:GREGORIAN
BEGIN:VEVENT
DTSTART:20260129T223000Z
DTEND:20260130T003000Z
X-MICROSOFT-CDO-ALLDAYEVENT:FALSE
SUMMARY:Cómo Elaborar un Plan de Negocios
DESCRIPTION:Una gu a paso a paso para desarrollar un plan de negocios integral\, que abarca la descripci n de la empresa\, el an lisis de mercado\, la estructura organizacional y las estrategias de ventas y marketing.\n\n\n\nSpeaker(s): Dr. Vania Ramos Ponce
X-ALT-DESC;FMTTYPE=text/html:Una gu&iacute\;a paso a paso para desarrollar un plan de negocios integral\, que abarca la descripci&oacute\;n de la empresa\, el an&aacute\;lisis de mercado\, la estructura organizacional y las estrategias de ventas y marketing.<br />\n<br />\nSpeaker(s): Dr. Vania Ramos Ponce
LOCATION:Este ser un seminario web en vivo presentado a trav s de Zoom. La informaci n de la reuni n y el acceso a este seminario web se enviar por correo electr nico despu s de registrarse. Si no ve la informaci n de registro 48 horas despu s de registrarse\, por favor revise su carpeta de correo no deseado. Si necesita asistencia\, por favor llame al 910-755-8561. Tenga en cuenta que los seminarios en vivo no se graban.
UID:e.605.44869
SEQUENCE:3
DTSTAMP:20260425T123253Z
URL:https://business.brunswickcountychamber.org/events/details/c&#243;mo-elaborar-un-plan-de-negocios-44869
END:VEVENT

END:VCALENDAR
