BEGIN:VCALENDAR
VERSION:2.0
PRODID:-//ChamberMaster//Event Calendar 2.0//EN
METHOD:PUBLISH
X-PUBLISHED-TTL:P3D
REFRESH-INTERVAL:P3D
CALSCALE:GREGORIAN
BEGIN:VEVENT
DTSTART:20250827T190000Z
DTEND:20250827T203000Z
X-MICROSOFT-CDO-ALLDAYEVENT:FALSE
SUMMARY:Designing your Path as a Visual Artist
DESCRIPTION:"Designing Your Path as a Visual Artist" is the perfect starting point for emerging artists and crafters aiming to build a successful creative career. In this engaging workshop\, we will explore the different stages of an art career and the unique challenges and opportunities within each stage. You will discover what stage you are in and with this insight\, you'll set tailored goals to advance your career from your specific starting point. Join us to lay the groundwork for a flourishing creative business.
X-ALT-DESC;FMTTYPE=text/html:&quot\;Designing Your Path as a Visual Artist&quot\; is the perfect starting point for emerging artists and crafters aiming to build a successful creative career. In this engaging workshop\, we will explore the different stages of an art career and the unique challenges and opportunities within each stage. You will discover what stage you are in and with this insight\, you&#39\;ll set tailored goals to advance your career from your specific starting point. Join us to lay the groundwork for a flourishing creative business.
LOCATION:Online
UID:e.605.44026
SEQUENCE:3
DTSTAMP:20260425T203911Z
URL:https://business.brunswickcountychamber.org/events/details/designing-your-path-as-a-visual-artist-44026
END:VEVENT

END:VCALENDAR
