BEGIN:VCALENDAR
VERSION:2.0
PRODID:-//ChamberMaster//Event Calendar 2.0//EN
METHOD:PUBLISH
X-PUBLISHED-TTL:P3D
REFRESH-INTERVAL:P3D
CALSCALE:GREGORIAN
BEGIN:VEVENT
DTSTART:20251004T120000Z
DTEND:20251004T170000Z
X-MICROSOFT-CDO-ALLDAYEVENT:FALSE
SUMMARY:Egret Landing Community Garage Sale
DESCRIPTION:Come see our beautiful Community while shopping for bargains!!!!
X-ALT-DESC;FMTTYPE=text/html:Come see our beautiful Community while shopping for bargains!!!!
LOCATION:3021 Siskin Drive Calabash NC
UID:e.605.44432
SEQUENCE:3
DTSTAMP:20260425T164242Z
URL:https://business.brunswickcountychamber.org/events/details/egret-landing-community-garage-sale-44432
END:VEVENT

END:VCALENDAR
