BEGIN:VCALENDAR
VERSION:2.0
PRODID:-//ChamberMaster//Event Calendar 2.0//EN
METHOD:PUBLISH
X-PUBLISHED-TTL:P3D
REFRESH-INTERVAL:P3D
CALSCALE:GREGORIAN
BEGIN:VEVENT
DTSTART:20260414T213000Z
DTEND:20260414T230000Z
X-MICROSOFT-CDO-ALLDAYEVENT:FALSE
SUMMARY:Employee Law 101: What Small Business Owners Need to Know
DESCRIPTION:Navigating employee laws can be overwhelming for small business owners. This seminar will cover the essential legal basics every employer should understand\, including hiring practices\, employee rights\, workplace policies\, and protecting proprietary information. Gain the knowledge you need to stay compliant and safeguard your business.\n\n\n\nSpeaker(s): Kaitlyn Richardson\, Attorney
X-ALT-DESC;FMTTYPE=text/html:Navigating employee laws can be overwhelming for small business owners. This seminar will cover the essential legal basics every employer should understand\, including hiring practices\, employee rights\, workplace policies\, and protecting proprietary information. Gain the knowledge you need to stay compliant and safeguard your business.<br />\n<br />\nSpeaker(s): Kaitlyn Richardson\, Attorney
LOCATION:This will be a live webinar presented through Zoom. Meeting and access information for this webinar will be emailed after registration. If you do not see the registration information 48 hours after registering\, please check your spam folder. If you need assistance\, please call 910-755-7498. Please note\, live seminars are not recorded.
UID:e.605.44897
SEQUENCE:3
DTSTAMP:20260425T112417Z
URL:https://business.brunswickcountychamber.org/events/details/employee-law-101-what-small-business-owners-need-to-know-44897
END:VEVENT

END:VCALENDAR
