BEGIN:VCALENDAR
VERSION:2.0
PRODID:-//ChamberMaster//Event Calendar 2.0//EN
METHOD:PUBLISH
X-PUBLISHED-TTL:P3D
REFRESH-INTERVAL:P3D
CALSCALE:GREGORIAN
BEGIN:VEVENT
DTSTART;VALUE=DATE:20251107
DTEND;VALUE=DATE:20251109
TRANSP:TRANSPARENT
X-MICROSOFT-CDO-ALLDAYEVENT:TRUE
SUMMARY:Explore Viking in Brunswick County
DESCRIPTION:Join Katie Bates of Love Travel Collection for an inspiring Viking Cruises event to discover what makes Viking the world's leading destination-focused cruise line. This presentation will be given along with representative from Viking headquarters where you will learn about their award-winning river\, ocean\, and expedition voyages\, plus enjoy exclusive offers available only to attendees. It's the perfect opportunity to start planning your next unforgettable adventure   the Viking way!
X-ALT-DESC;FMTTYPE=text/html:<div>&nbsp\;</div>\n\n<div>Join Katie Bates of Love Travel Collection for an inspiring Viking Cruises event to discover what makes Viking the world&rsquo\;s leading destination-focused cruise line. This presentation will be given along with representative from Viking headquarters where you will learn about their award-winning river\, ocean\, and expedition voyages\, plus enjoy exclusive offers available only to attendees. It&rsquo\;s the perfect opportunity to start planning your next unforgettable adventure &mdash\; the Viking way!</div>\n\n<div>&nbsp\;</div>\n
LOCATION:Viking & Vino Date: Friday\, Nov 7\, 2025 Time: 5:00 pm - 7:00 pm Location: Vinofiore Wine Shop & Tasting Room RSVP: Click here to RSVP https://form.jotform.com/250373201200133 Special feature: Exclusive group cruise hosted by Vinofiore! Set Sail from St James: Viking Cruises Date: Saturday\, November 8\, 2025 Time: 10:00 am - 12:00 pm Location: St James Community Center RSVP: Click here to RSVP https://forms.gle/g1jpFehEQBF61cyo7 Brunswick Beer & Cider: Discover Viking Cruises Date: Saturday\, November 8\, 2025 Time: 3:00 pm - 5:00 pm Location: Brunswick Beer & Cider\, The Villages at Brunswick Forest\, 1313 S Dickinson Dr\, Leland\, NC 28451 RSVP: Click here to RSVP https://forms.gle/uDVvj3sjTn54gXdF6
UID:e.605.44881
SEQUENCE:3
DTSTAMP:20260425T153549Z
URL:https://business.brunswickcountychamber.org/events/details/explore-viking-in-brunswick-county-44881
END:VEVENT

END:VCALENDAR
