BEGIN:VCALENDAR
VERSION:2.0
PRODID:-//ChamberMaster//Event Calendar 2.0//EN
METHOD:PUBLISH
X-PUBLISHED-TTL:P3D
REFRESH-INTERVAL:P3D
CALSCALE:GREGORIAN
BEGIN:VEVENT
DTSTART:20250805T160000Z
DTEND:20250805T173000Z
X-MICROSOFT-CDO-ALLDAYEVENT:FALSE
SUMMARY:Facebook Shops & Facebook Marketplace
DESCRIPTION:If you want to be successful\, you can't just post on your Facebook page anymore\, you have to post where the customers are shopping. So where are they?  Facebook Marketplace & Facebook Shops.\n\n \n\nFacebook has more than 1.1 billion people logging in daily to spend an average of 1 hour on the platform\, but only 15% say they are shopping. If you sell products online and you don't have a Facebook Shop or you have a local presence but not using Facebook Marketplace\, you're missing a huge opportunity. Let me show you Why you should use Facebook Shops & Marketplace.
X-ALT-DESC;FMTTYPE=text/html:If&nbsp\;you want to be successful\, you can&rsquo\;t just post on your Facebook page anymore\, you have to post where the customers are shopping. So where are they?&nbsp\; Facebook Marketplace &amp\; Facebook Shops.<br />\n&nbsp\;<br />\nFacebook has more than&nbsp\;1.1 billion people&nbsp\;logging in daily to spend an average of 1 hour on the platform\, but only 15% say they are shopping.&nbsp\;If you&nbsp\;sell products online&nbsp\;and you don&rsquo\;t have a Facebook Shop or you have a local presence but not using Facebook Marketplace\, you&rsquo\;re missing a huge opportunity. Let me show you&nbsp\;Why you should use Facebook Shops &amp\; Marketplace.
LOCATION:Online
UID:e.605.44036
SEQUENCE:3
DTSTAMP:20260425T204052Z
URL:https://business.brunswickcountychamber.org/events/details/facebook-shops-facebook-marketplace-44036
END:VEVENT

END:VCALENDAR
