BEGIN:VCALENDAR
VERSION:2.0
PRODID:-//ChamberMaster//Event Calendar 2.0//EN
METHOD:PUBLISH
X-PUBLISHED-TTL:P3D
REFRESH-INTERVAL:P3D
CALSCALE:GREGORIAN
BEGIN:VEVENT
DTSTART:20251029T213000Z
DTEND:20251029T233000Z
X-MICROSOFT-CDO-ALLDAYEVENT:FALSE
SUMMARY:Financing Your Small Business - Part 4
DESCRIPTION:Financing continues to be a challenge for many small business owners. Questions such as: Who will give me money for my business idea and what do they need from me? How will this business make money and will it be enough to pay back a loan or attract an investor? Get to the heart of business financing in this seminar that answers your questions. Explore the advantages and disadvantages of the different types of funding sources and how to choose the right one for your needs. Discover the keys to financing success.\n\n\n\nSpeaker(s): tenBiz
X-ALT-DESC;FMTTYPE=text/html:Financing continues to be a challenge for many small business owners. Questions such as: Who will give me money for my business idea and what do they need from me? How will this business make money and will it be enough to pay back a loan or attract an investor? Get to the heart of business financing in this seminar that answers your questions. Explore the advantages and disadvantages of the different types of funding sources and how to choose the right one for your needs. Discover the keys to financing success.<br />\n<br />\nSpeaker(s): tenBiz
LOCATION:This will be a live webinar presented through Zoom. Meeting and access information for this webinar will be available upon registration & a registration reminder will be provided via email. If you need assistance\, please call 910-755-7498
UID:e.605.44846
SEQUENCE:3
DTSTAMP:20260425T180249Z
URL:https://business.brunswickcountychamber.org/events/details/financing-your-small-business-part-4-44846
END:VEVENT

END:VCALENDAR
