BEGIN:VCALENDAR
VERSION:2.0
PRODID:-//ChamberMaster//Event Calendar 2.0//EN
METHOD:PUBLISH
X-PUBLISHED-TTL:P3D
REFRESH-INTERVAL:P3D
CALSCALE:GREGORIAN
BEGIN:VEVENT
DTSTART:20260331T210000Z
DTEND:20260331T230000Z
X-MICROSOFT-CDO-ALLDAYEVENT:FALSE
SUMMARY:Food Business : Strength in Numbers: How your Menu Shows-Up in Financial Forecasting & Reporting
DESCRIPTION:Most of us didn't learn this stuff in school\, but we're in business anyway! It's never too late to learn "your numbers" and some basic definitions to find your way. Bookkeeping and accounting\, profit and loss\, income and expenses\, forecasts and reports: we'll find your food in all of them\, and show you how this understanding can help build a strong\, profitable business.\n\n\n\nSpeaker(s): Dani Black\n\n            Bigger Tables Culinary & Service Consulting
X-ALT-DESC;FMTTYPE=text/html:Most of us didn&rsquo\;t learn this stuff in school\, but we&rsquo\;re in business anyway! It&rsquo\;s never too late to learn &ldquo\;your numbers&rdquo\; and some basic definitions to find your way. Bookkeeping and accounting\, profit and loss\, income and expenses\, forecasts and reports: we&rsquo\;ll find your food in all of them\, and show you how this understanding can help build a strong\, profitable business.<br />\n<br />\nSpeaker(s): Dani Black<br />\n&nbsp\; &nbsp\; &nbsp\; &nbsp\; &nbsp\; &nbsp\; Bigger Tables Culinary &amp\; Service Consulting
LOCATION:This will be a live webinar presented through Zoom. Meeting and access information for this webinar will be emailed after registration. If you do not see the registration information 48 hours after registering\, please check your spam folder. If you need assistance\, please call 910-755-7498. Please note\, live seminars are not recorded.
UID:e.605.44891
SEQUENCE:3
DTSTAMP:20260422T002825Z
URL:https://business.brunswickcountychamber.org/events/details/food-business-strength-in-numbers-how-your-menu-shows-up-in-financial-forecasting-reporting-03-31-2026-44891
END:VEVENT

END:VCALENDAR
