BEGIN:VCALENDAR
VERSION:2.0
PRODID:-//ChamberMaster//Event Calendar 2.0//EN
METHOD:PUBLISH
X-PUBLISHED-TTL:P3D
REFRESH-INTERVAL:P3D
CALSCALE:GREGORIAN
BEGIN:VEVENT
DTSTART:20111208T130000Z
DTEND:20111209T010000Z
X-MICROSOFT-CDO-ALLDAYEVENT:FALSE
SUMMARY:Free Health Screening Day
DESCRIPTION:CommWell Health Medical with Saint Brendan Catholic Church offer Free Health Screening Day! Celebrate the Holidays in Good Health. Glucose Screen\, Cholesterol Screening\, Vision Screening\, Flu Shot\, Blood Pressure Checks\, Hearing Screening\, Skin Cancer screening\, Health Risks Assessment\, Posture\, Spine/Scolious\, Gait Assessment
X-ALT-DESC;FMTTYPE=text/html:CommWell Health Medical with Saint Brendan Catholic Church offer Free Health Screening Day! Celebrate the Holidays in Good Health. Glucose Screen\, Cholesterol Screening\, Vision Screening\, Flu Shot\, Blood Pressure Checks\, Hearing Screening\, Skin Cancer screening\, Health Risks Assessment\, Posture\, Spine/Scolious\, Gait Assessment
LOCATION:6934 Beach Drive\, Suite 1 Ocean Isle Beach\, NC
UID:e.605.2369
SEQUENCE:3
DTSTAMP:20260421T125520Z
URL:https://business.brunswickcountychamber.org/events/details/free-health-screening-day-12-08-2011-2369
END:VEVENT

END:VCALENDAR
