BEGIN:VCALENDAR
VERSION:2.0
PRODID:-//ChamberMaster//Event Calendar 2.0//EN
METHOD:PUBLISH
X-PUBLISHED-TTL:P3D
REFRESH-INTERVAL:P3D
CALSCALE:GREGORIAN
BEGIN:VEVENT
DTSTART:20260507T213000Z
DTEND:20260507T230000Z
X-MICROSOFT-CDO-ALLDAYEVENT:FALSE
SUMMARY:Google Tools for Business
DESCRIPTION:Explore a suite of free and low-cost Google tools that can help your business operate more efficiently. This class covers topics such as forms\, search console\, business profile\, alerts\, and other applications to streamline your operations.\n\n\n\nSpeaker(s): Shanna Capps JNOW Media
X-ALT-DESC;FMTTYPE=text/html:Explore a suite of free and low-cost Google tools that can help your business operate more efficiently. This class covers topics such as forms\, search console\, business profile\, alerts\, and other applications to streamline your operations.<br />\n<br />\nSpeaker(s): Shanna Capps JNOW Media
LOCATION:This will be a live webinar presented through Zoom. Meeting and access information for this webinar will be emailed after registration. If you do not see the registration information 48 hours after registering\, please check your spam folder. If you need assistance\, please call 910-755-7498. Please note\, live seminars are not recorded.
UID:e.605.44905
SEQUENCE:3
DTSTAMP:20260422T050544Z
URL:https://business.brunswickcountychamber.org/events/details/google-tools-for-business-44905
END:VEVENT

END:VCALENDAR
