BEGIN:VCALENDAR
VERSION:2.0
PRODID:-//ChamberMaster//Event Calendar 2.0//EN
METHOD:PUBLISH
X-PUBLISHED-TTL:P3D
REFRESH-INTERVAL:P3D
CALSCALE:GREGORIAN
BEGIN:VEVENT
DTSTART:20260512T213000Z
DTEND:20260512T230000Z
X-MICROSOFT-CDO-ALLDAYEVENT:FALSE
SUMMARY:How to Create Videos to Market Your Business for Beginners – Part 2
DESCRIPTION:Once we've explored the video creation platforms for small businesses\, it's time to learn the best practices of making a video for your business. In this course\, participants will learn how about content creation\, how to create a script for your video\, best practices for live or animated videos\, recording tips on lighting\, sound\, and presentation\, editing resources\, and how to vet vendors to assist you if necessary. We will focus on free\, low cost\, and easy to use strategies in these areas.\n\n\n\nSpeaker(s): Dr. C. Renea Simon Step by Step Business Solutions
X-ALT-DESC;FMTTYPE=text/html:Once we&rsquo\;ve explored the video creation platforms for small businesses\, it&rsquo\;s time to learn the best practices of making a video for your business. In this course\, participants will learn how about content creation\, how to create a script for your video\, best practices for live or animated videos\, recording tips on lighting\, sound\, and presentation\, editing resources\, and how to vet vendors to assist you if necessary. We will focus on free\, low cost\, and easy to use strategies in these areas.<br />\n<br />\nSpeaker(s): Dr. C. Renea Simon Step by Step Business Solutions
LOCATION:This will be a live webinar presented through Zoom. Meeting and access information for this webinar will be emailed after registration. If you do not see the registration information 48 hours after registering\, please check your spam folder. If you need assistance\, please call 910-755-7498. Please note\, live seminars are not recorded.
UID:e.605.44907
SEQUENCE:3
DTSTAMP:20260422T051356Z
URL:https://business.brunswickcountychamber.org/events/details/how-to-create-videos-to-market-your-business-for-beginners-part-2-05-12-2026-44907
END:VEVENT

END:VCALENDAR
