BEGIN:VCALENDAR
VERSION:2.0
PRODID:-//ChamberMaster//Event Calendar 2.0//EN
METHOD:PUBLISH
X-PUBLISHED-TTL:P3D
REFRESH-INTERVAL:P3D
CALSCALE:GREGORIAN
BEGIN:VEVENT
DTSTART:20251015T153000Z
DTEND:20251015T173000Z
X-MICROSOFT-CDO-ALLDAYEVENT:FALSE
SUMMARY:How to Find Contracts and Grants for Small Businesses
DESCRIPTION:This seminar\, "How to Find Contracts and Grants for Small Businesses\," offers a comprehensive guide for entrepreneurs seeking funding and growth opportunities. It covers essential topics such as understanding contracts and grants\, researching available opportunities\, and navigating the application process. Attendees will learn how to identify the right opportunities\, prepare compelling applications\, and manage awarded contracts or grants effectively. The presentation also addresses common challenges\, provides actionable solutions\, and highlights valuable resources like Small Business Development Centers and mentorship programs. By the end\, participants will have a clear roadmap to secure funding and build lasting partnerships to support their business growth.\n\n\n\nSpeaker(s): Dr. Te'Aira Melvin\, M & J Financial
X-ALT-DESC;FMTTYPE=text/html:This seminar\, &quot\;How to Find Contracts and Grants for Small Businesses\,&quot\; offers a comprehensive guide for entrepreneurs seeking funding and growth opportunities. It covers essential topics such as understanding contracts and grants\, researching available opportunities\, and navigating the application process. Attendees will learn how to identify the right opportunities\, prepare compelling applications\, and manage awarded contracts or grants effectively. The presentation also addresses common challenges\, provides actionable solutions\, and highlights valuable resources like Small Business Development Centers and mentorship programs. By the end\, participants will have a clear roadmap to secure funding and build lasting partnerships to support their business growth.<br />\n<br />\nSpeaker(s): Dr. Te&#39\;Aira Melvin\, M &amp\; J Financial<br />\n<br />\n&nbsp\;
LOCATION:This will be a live webinar presented through Zoom. Meeting and access information for this webinar will be available upon registration & a registration reminder will be provided via email. If you need assistance\, please call 910-755-7498.
UID:e.605.44838
SEQUENCE:3
DTSTAMP:20260425T180540Z
URL:https://business.brunswickcountychamber.org/events/details/how-to-find-contracts-and-grants-for-small-businesses-44838
END:VEVENT

END:VCALENDAR
