BEGIN:VCALENDAR
VERSION:2.0
PRODID:-//ChamberMaster//Event Calendar 2.0//EN
METHOD:PUBLISH
X-PUBLISHED-TTL:P3D
REFRESH-INTERVAL:P3D
CALSCALE:GREGORIAN
BEGIN:VEVENT
DTSTART:20260210T223000Z
DTEND:20260211T003000Z
X-MICROSOFT-CDO-ALLDAYEVENT:FALSE
SUMMARY:How to Find Your Customers Using Market Research (IN PERSON)
DESCRIPTION:One of the biggest challenges business planners face is finding credible data to prove their business can thrive in a competitive market. Many entrepreneurs don't realize that their local library is a powerful resource\, offering tools that can help identify who their customers are\, where they are located\, and how effectively their business model can reach them. This seminar is essential for anyone in the planning or early growth stages who wants to learn how to access and use statistical data to strengthen their business plan\, secure funding\, and make informed decisions. Discover how market research can give you a competitive edge and set your business up for success.\n\n\n\nSpeaker(s): Jonathan Dusenbury\, BCC Librarian
X-ALT-DESC;FMTTYPE=text/html:One of the biggest challenges business planners face is finding credible data to prove their business can thrive in a competitive market. Many entrepreneurs don&rsquo\;t realize that their local library is a powerful resource\, offering tools that can help identify who their customers are\, where they are located\, and how effectively their business model can reach them. This seminar is essential for anyone in the planning or early growth stages who wants to learn how to access and use statistical data to strengthen their business plan\, secure funding\, and make informed decisions. Discover how market research can give you a competitive edge and set your business up for success.<br />\n<br />\nSpeaker(s): Jonathan Dusenbury\, BCC Librarian
LOCATION:This event is taking place IN PERSON at Brunswick Community College Main Campus in the library conference room\, building A. The address is 50 College Road\, N.E. Bolivia\, NC. 28422
UID:e.605.44872
SEQUENCE:3
DTSTAMP:20260425T112450Z
URL:https://business.brunswickcountychamber.org/events/details/how-to-find-your-customers-using-market-research-in-person-44872
END:VEVENT

END:VCALENDAR
