BEGIN:VCALENDAR
VERSION:2.0
PRODID:-//ChamberMaster//Event Calendar 2.0//EN
METHOD:PUBLISH
X-PUBLISHED-TTL:P3D
REFRESH-INTERVAL:P3D
CALSCALE:GREGORIAN
BEGIN:VEVENT
DTSTART:20260506T160000Z
DTEND:20260506T173000Z
X-MICROSOFT-CDO-ALLDAYEVENT:FALSE
SUMMARY:How to Identify & Safeguard Your Business from Financial Fraud (IN PERSON)
DESCRIPTION:The Brunswick Community College Small Business Center\, in partnership with TD Bank\, invites small business owners and aspiring entrepreneurs to a Lunch and Learn seminar on fraud awareness and protection. Learn how to recognize common scams\, report suspicious activity\, and put safeguards in place to protect your business. The session will also highlight the importance of building a strong relationship with your bank as a key tool in preventing fraud and securing your financial future. Don't miss this opportunity to gain valuable knowledge\, network with fellow entrepreneurs\, and enjoy a meal while learning how to keep your business secure and thriving!\n\n\n\nSpeaker(s): Tianna DeJesus TD Bank\, America's Most Convenient Bank
X-ALT-DESC;FMTTYPE=text/html:The Brunswick Community College Small Business Center\, in partnership with TD Bank\, invites small business owners and aspiring entrepreneurs to a Lunch and Learn seminar on fraud awareness and protection. Learn how to recognize common scams\, report suspicious activity\, and put safeguards in place to protect your business. The session will also highlight the importance of building a strong relationship with your bank as a key tool in preventing fraud and securing your financial future. Don&rsquo\;t miss this opportunity to gain valuable knowledge\, network with fellow entrepreneurs\, and enjoy a meal while learning how to keep your business secure and thriving!<br />\n<br />\nSpeaker(s): Tianna DeJesus TD Bank\, America&#39\;s Most Convenient Bank
LOCATION:This event is taking place IN PERSON at the Southport/Oak Island Chamber of Commerce which is located at 4433 Long Beach Rd SE\, Southport\, NC 28461. To ensure adequate space and meals\, registration is mandatory at least 24 hours in advance.
UID:e.605.44903
SEQUENCE:3
DTSTAMP:20260422T002915Z
URL:https://business.brunswickcountychamber.org/events/details/how-to-identify-safeguard-your-business-from-financial-fraud-in-person-05-06-2026-44903
END:VEVENT

END:VCALENDAR
