BEGIN:VCALENDAR
VERSION:2.0
PRODID:-//ChamberMaster//Event Calendar 2.0//EN
METHOD:PUBLISH
X-PUBLISHED-TTL:P3D
REFRESH-INTERVAL:P3D
CALSCALE:GREGORIAN
BEGIN:VEVENT
DTSTART:20260127T223000Z
DTEND:20260128T003000Z
X-MICROSOFT-CDO-ALLDAYEVENT:FALSE
SUMMARY:How to Test a Business Idea
DESCRIPTION:In this course\, aspiring small business owners will learn how to assess the feasibility of their business ideas. Participants will explore each section of a business plan\, identifying benefits and red flags. Additionally\, the course covers strategies for efficient and cost-effective business launch and growth\, including creating a minimal viable product and practical customer validation techniques.\n\n\n\nSpeaker(s): Dr. C. Renea Simon\, Step by Step Business Solutions
X-ALT-DESC;FMTTYPE=text/html:In this course\, aspiring small business owners will learn how to assess the feasibility of their business ideas. Participants will explore each section of a business plan\, identifying benefits and red flags. Additionally\, the course covers strategies for efficient and cost-effective business launch and growth\, including creating a minimal viable product and practical customer validation techniques.<br />\n<br />\nSpeaker(s): Dr. C. Renea Simon\, Step by Step Business Solutions
LOCATION:This will be a live webinar presented through Zoom. Meeting and access information for this webinar will be emailed after registration. If you do not see the registration information 48 hours after registering\, please check your spam folder. If you need assistance\, please call 910-755-7498. Please note\, live seminars are not recorded
UID:e.605.44867
SEQUENCE:3
DTSTAMP:20260425T123440Z
URL:https://business.brunswickcountychamber.org/events/details/how-to-test-a-business-idea-44867
END:VEVENT

END:VCALENDAR
