BEGIN:VCALENDAR
VERSION:2.0
PRODID:-//ChamberMaster//Event Calendar 2.0//EN
METHOD:PUBLISH
X-PUBLISHED-TTL:P3D
REFRESH-INTERVAL:P3D
CALSCALE:GREGORIAN
BEGIN:VEVENT
DTSTART:20260108T223000Z
DTEND:20260109T000000Z
X-MICROSOFT-CDO-ALLDAYEVENT:FALSE
SUMMARY:HR 101
DESCRIPTION:Gain understanding of how the human resources function supports and enhances the value of the organization to employees and managers while protecting the interests of the business. Participants will gain an awareness of the function's value and will feel more comfortable asking questions of and interacting with the human resources function on a regular basis in their organization.\n\n\n\nSpeaker(s): Leath HR Group
X-ALT-DESC;FMTTYPE=text/html:Gain understanding of how the human resources function supports and enhances the value of the organization to employees and managers while protecting the interests of the business. Participants will gain an awareness of the function&rsquo\;s value and will feel more comfortable asking questions of and interacting with the human resources function on a regular basis in their organization.<br />\n<br />\nSpeaker(s): Leath HR Group
LOCATION:This will be a live webinar presented through Zoom. Meeting and access information for this webinar will be emailed after registration. If you do not see the registration information 48 hours after registering\, please check your spam folder. If you need assistance\, please call 910-755-7498. Please note\, live seminars are not recorded.
UID:e.605.44861
SEQUENCE:3
DTSTAMP:20260425T123315Z
URL:https://business.brunswickcountychamber.org/events/details/hr-101-01-08-2026-44861
END:VEVENT

END:VCALENDAR
