BEGIN:VCALENDAR
VERSION:2.0
PRODID:-//ChamberMaster//Event Calendar 2.0//EN
METHOD:PUBLISH
X-PUBLISHED-TTL:P3D
REFRESH-INTERVAL:P3D
CALSCALE:GREGORIAN
BEGIN:VEVENT
DTSTART:20260402T210000Z
DTEND:20260402T223000Z
X-MICROSOFT-CDO-ALLDAYEVENT:FALSE
SUMMARY:HR 101 - Start Building a Company Focused on People
DESCRIPTION:Becoming a Business Owner and Managing employees in your business can be a challenge and this course provides you essential tools to make that change positive for you and your team. This class is designed to equip new business owners with essential leadership skills. This interactive session covers effective communication\, team building\, performance management\, and conflict resolution. Participants will learn practical strategies for transitioning from peer to leader\, motivating their team\, and driving productivity. By the end of the webinar\, new business owners will feel confident in their ability to lead and inspire their teams.\n\n\n\nSpeaker(s): Leath HR
X-ALT-DESC;FMTTYPE=text/html:Becoming a Business Owner and Managing employees in your business can be a challenge and this course provides you essential tools to make that change positive for you and your team. This class is designed to equip new business owners with essential leadership skills. This interactive session covers effective communication\, team building\, performance management\, and conflict resolution. Participants will learn practical strategies for transitioning from peer to leader\, motivating their team\, and driving productivity. By the end of the webinar\, new business owners will feel confident in their ability to lead and inspire their teams.<br />\n<br />\nSpeaker(s): Leath HR
LOCATION:This will be a live webinar presented through Zoom. Meeting and access information for this webinar will be emailed after registration. If you do not see the registration information 48 hours after registering\, please check your spam folder. If you need assistance\, please call 910-755-7498. Please note\, live seminars are not recorded.
UID:e.605.44893
SEQUENCE:3
DTSTAMP:20260425T112341Z
URL:https://business.brunswickcountychamber.org/events/details/hr-101-start-building-a-company-focused-on-people-44893
END:VEVENT

END:VCALENDAR
