BEGIN:VCALENDAR
VERSION:2.0
PRODID:-//ChamberMaster//Event Calendar 2.0//EN
METHOD:PUBLISH
X-PUBLISHED-TTL:P3D
REFRESH-INTERVAL:P3D
CALSCALE:GREGORIAN
BEGIN:VEVENT
DTSTART:20260422T160000Z
DTEND:20260422T173000Z
X-MICROSOFT-CDO-ALLDAYEVENT:FALSE
SUMMARY:Implementing AI for Small Business - Part 3
DESCRIPTION:A comprehensive 4-week course that dives deep into practical AI tools\, implementation\, and business growth. Week three will focus on implementing AI for small business.\n\n\n\nSpeaker(s): Frank Del Villar\, Financial Analyst
X-ALT-DESC;FMTTYPE=text/html:A comprehensive 4-week course that dives deep into practical AI tools\, implementation\, and business growth. Week three will focus on implementing AI for small business.<br />\n<br />\nSpeaker(s): Frank Del Villar\, Financial Analyst
LOCATION:This will be a live webinar presented through Zoom. Meeting and access information for this webinar will be emailed after registration. If you do not see the registration information 48 hours after registering\, please check your spam folder. If you need assistance\, please call 910-755-7498. Please note\, live seminars are not recorded.
UID:e.605.44900
SEQUENCE:3
DTSTAMP:20260421T175834Z
URL:https://business.brunswickcountychamber.org/events/details/implementing-ai-for-small-business-part-3-44900
END:VEVENT

END:VCALENDAR
