BEGIN:VCALENDAR
VERSION:2.0
PRODID:-//ChamberMaster//Event Calendar 2.0//EN
METHOD:PUBLISH
X-PUBLISHED-TTL:P3D
REFRESH-INTERVAL:P3D
CALSCALE:GREGORIAN
BEGIN:VEVENT
DTSTART:20260114T223000Z
DTEND:20260115T000000Z
X-MICROSOFT-CDO-ALLDAYEVENT:FALSE
SUMMARY:Income Tax Basics for Small Business Owners & Self Employed Individuals
DESCRIPTION:In this course you will learn: 1) How business activity is reported and taxed- Including solopreneurs & gig workers 2) How your entity structure effects your tax bill   understand the differences for LLC's\, partnerships and corporations or if you need to form one 3) How to maximize your business deductions & stay in legal compliance 4) How to minimize self-employment tax and keep more money in your pocket   it's 30%! 5) How to keep records to avoid audit pitfalls   debunking common misconceptions 6) How to set expectations and communicate better with your tax preparer\n\n\n\nSpeaker(s): Amanda Chestnut\, JD\, Accountant\, Money Mastery
X-ALT-DESC;FMTTYPE=text/html:In this course you will learn: 1) How business activity is reported and taxed- Including solopreneurs &amp\; gig workers 2) How your entity structure effects your tax bill &ndash\; understand the differences for LLC&rsquo\;s\, partnerships and corporations or if you need to form one 3) How to maximize your business deductions &amp\; stay in legal compliance 4) How to minimize self-employment tax and keep more money in your pocket &ndash\; it&rsquo\;s 30%! 5) How to keep records to avoid audit pitfalls &ndash\; debunking common misconceptions 6) How to set expectations and communicate better with your tax preparer<br />\n<br />\nSpeaker(s): Amanda Chestnut\, JD\, Accountant\, Money Mastery
LOCATION:This will be a live webinar presented through Zoom. Meeting and access information for this webinar will be emailed after registration. If you do not see the registration information 48 hours after registering\, please check your spam folder. If you need assistance\, please call 910-755-7498. Please note\, live seminars are not recorded.
UID:e.605.44863
SEQUENCE:3
DTSTAMP:20260425T123556Z
URL:https://business.brunswickcountychamber.org/events/details/income-tax-basics-for-small-business-owners-self-employed-individuals-44863
END:VEVENT

END:VCALENDAR
