BEGIN:VCALENDAR
VERSION:2.0
PRODID:-//ChamberMaster//Event Calendar 2.0//EN
METHOD:PUBLISH
X-PUBLISHED-TTL:P3D
REFRESH-INTERVAL:P3D
CALSCALE:GREGORIAN
BEGIN:VEVENT
DTSTART:20260408T160000Z
DTEND:20260408T173000Z
X-MICROSOFT-CDO-ALLDAYEVENT:FALSE
SUMMARY:Intro to AI for Small Business - Part 1
DESCRIPTION:A comprehensive 4-week course that dives deep into practical AI tools\, implementation\, and business growth. Week one will focus on an introduction to AI for small business.\n\n\n\nSpeaker(s): Frank Del Villar\, Financial Analyst
X-ALT-DESC;FMTTYPE=text/html:A comprehensive 4-week course that dives deep into practical AI tools\, implementation\, and business growth. Week one will focus on an introduction to AI for small business.<br />\n<br />\nSpeaker(s): Frank Del Villar\, Financial Analyst
LOCATION:This will be a live webinar presented through Zoom. Meeting and access information for this webinar will be emailed after registration. If you do not see the registration information 48 hours after registering\, please check your spam folder. If you need assistance\, please call 910-755-7498. Please note\, live seminars are not recorded.
UID:e.605.44895
SEQUENCE:3
DTSTAMP:20260425T112344Z
URL:https://business.brunswickcountychamber.org/events/details/intro-to-ai-for-small-business-part-1-44895
END:VEVENT

END:VCALENDAR
