BEGIN:VCALENDAR
VERSION:2.0
PRODID:-//ChamberMaster//Event Calendar 2.0//EN
METHOD:PUBLISH
X-PUBLISHED-TTL:P3D
REFRESH-INTERVAL:P3D
CALSCALE:GREGORIAN
BEGIN:VEVENT
DTSTART:20250918T160000Z
DTEND:20250918T170000Z
X-MICROSOFT-CDO-ALLDAYEVENT:FALSE
SUMMARY:Kingfish Bay Development - Ribbon Cutting
DESCRIPTION:
X-ALT-DESC;FMTTYPE=text/html:
LOCATION:1235 Kingfish Blvd\, Calabash\, NC 28467
UID:e.605.44431
SEQUENCE:3
DTSTAMP:20260425T180156Z
URL:https://business.brunswickcountychamber.org/events/details/kingfish-bay-development-ribbon-cutting-44431
END:VEVENT

END:VCALENDAR
