BEGIN:VCALENDAR
VERSION:2.0
PRODID:-//ChamberMaster//Event Calendar 2.0//EN
METHOD:PUBLISH
X-PUBLISHED-TTL:P3D
REFRESH-INTERVAL:P3D
CALSCALE:GREGORIAN
BEGIN:VEVENT
DTSTART:20260623T213000Z
DTEND:20260624T003000Z
X-MICROSOFT-CDO-ALLDAYEVENT:FALSE
SUMMARY:Live Music at Coastal Wine and Tap\, OIB
DESCRIPTION:Live Music and Pizza Night with local talented solo\, duo and trio musicians. Great music and awesome place to hear it! Outside on deck or inside weather determining\,
X-ALT-DESC;FMTTYPE=text/html:Live Music and Pizza Night with local talented solo\, duo and trio musicians. Great music and awesome place to hear it! Outside on deck or inside weather determining\,&nbsp\;
LOCATION:20B East Second Street\, Ocean Isle Beach\, NC (Upstairs and across the street from the Museum)
UID:e.605.45087
SEQUENCE:3
DTSTAMP:20260422T020434Z
URL:https://business.brunswickcountychamber.org/events/details/live-music-at-coastal-wine-and-tap-oib-06-23-2026-45087
END:VEVENT

END:VCALENDAR
