BEGIN:VCALENDAR
VERSION:2.0
PRODID:-//ChamberMaster//Event Calendar 2.0//EN
METHOD:PUBLISH
X-PUBLISHED-TTL:P3D
REFRESH-INTERVAL:P3D
CALSCALE:GREGORIAN
BEGIN:VEVENT
DTSTART:20250723T213000Z
DTEND:20250723T230000Z
X-MICROSOFT-CDO-ALLDAYEVENT:FALSE
SUMMARY:Marketing 101 – Free and Low Cost Opportunities
DESCRIPTION:This webinar explores effective social media marketing strategies to achieve success. Students will learn how to leverage various social media platforms\, optimize their profiles\, create engaging content\, and implement successful marketing tactics. By the end of the webinar\, they will have the skills to maximize their social media presence and drive results for their business or brand.
X-ALT-DESC;FMTTYPE=text/html:This webinar explores effective social media marketing strategies to achieve success. Students will learn how to leverage various social media platforms\, optimize their profiles\, create engaging content\, and implement successful marketing tactics. By the end of the webinar\, they will have the skills to maximize their social media presence and drive results for their business or brand.
LOCATION:Online
UID:e.605.44033
SEQUENCE:3
DTSTAMP:20260425T220453Z
URL:https://business.brunswickcountychamber.org/events/details/marketing-101-free-and-low-cost-opportunities-44033
END:VEVENT

END:VCALENDAR
