BEGIN:VCALENDAR
VERSION:2.0
PRODID:-//ChamberMaster//Event Calendar 2.0//EN
METHOD:PUBLISH
X-PUBLISHED-TTL:P3D
REFRESH-INTERVAL:P3D
CALSCALE:GREGORIAN
BEGIN:VEVENT
DTSTART:20260616T160000Z
DTEND:20260616T190000Z
X-MICROSOFT-CDO-ALLDAYEVENT:FALSE
SUMMARY:Membership Extravaganza
DESCRIPTION:Join us on June 16 from 12:00 3:00 PM at the Brunswick County Chamber of Commerce\, 112 Pine Street in Shallotte\, for an afternoon dedicated to celebrating and connecting with our members.\n\nWe'll begin with ribbon cuttings from 12:00 1:00 PM\, followed by a Member Drop-In & Networking event from 1:00 3:00 PM. It's a great opportunity to showcase your business\, build new relationships\, and strengthen connections within our local business community.
X-ALT-DESC;FMTTYPE=text/html:<p data-end="253" data-start="66">Join us on June 16 from 12:00&ndash\;3:00 PM at the Brunswick County Chamber of Commerce\, 112 Pine Street in Shallotte\, for an afternoon dedicated to celebrating and connecting with our members.</p>\n\n<p data-end="515" data-start="255">We&rsquo\;ll begin with ribbon cuttings from 12:00&ndash\;1:00 PM\, followed by a Member Drop-In &amp\; Networking event from 1:00&ndash\;3:00 PM. It&rsquo\;s a great opportunity to showcase your business\, build new relationships\, and strengthen connections within our local business community.</p>\n
LOCATION:112 Pine St\, Shallotte\, NC 28470
UID:e.605.45138
SEQUENCE:3
DTSTAMP:20260424T112815Z
URL:https://business.brunswickcountychamber.org/events/details/membership-extravaganza-45138
END:VEVENT

END:VCALENDAR
