BEGIN:VCALENDAR
VERSION:2.0
PRODID:-//ChamberMaster//Event Calendar 2.0//EN
METHOD:PUBLISH
X-PUBLISHED-TTL:P3D
REFRESH-INTERVAL:P3D
CALSCALE:GREGORIAN
BEGIN:VEVENT
DTSTART:20260324T210000Z
DTEND:20260324T230000Z
X-MICROSOFT-CDO-ALLDAYEVENT:FALSE
SUMMARY:Penny Ballgame: Cost\, Prices\, Profits in Food Business
DESCRIPTION:How can you know whether you'll make money in food business? Do the math! Sometimes smart\, talented people who are very good at food might plan or start businesses without the basic "food math" needed to get profitable. Gaps show up over time\, not overnight. Don't let fear of the unknown (or of math) hold you back. Come learn the fundamentals of how food becomes revenue\, and revenue becomes profit in a restaurant\, food truck\, bakery or catering business. You'll get great basic skills and tools to make smart money decisions and to base your creative venture on a solid business foundation. Even if math is 'not your thing'\, you'll learn what the most vital metrics are\, and how to achieve them.\n\n\n\nSpeaker(s): Dani Black Bigger Tables Culinary & Service Consulting
X-ALT-DESC;FMTTYPE=text/html:How can you know whether you&#39\;ll make money in food business? Do the math! Sometimes smart\, talented people who are very good at food might plan or start businesses without the basic &ldquo\;food math&rdquo\; needed to get profitable. Gaps show up over time\, not overnight. Don&#39\;t let fear of the unknown (or of math) hold you back. Come learn the fundamentals of how food becomes revenue\, and revenue becomes profit in a restaurant\, food truck\, bakery or catering business. You&#39\;ll get great basic skills and tools to make smart money decisions and to base your creative venture on a solid business foundation. Even if math is &lsquo\;not your thing&#39\;\, you&#39\;ll learn what the most vital metrics are\, and how to achieve them.<br />\n<br />\nSpeaker(s): Dani Black Bigger Tables Culinary &amp\; Service Consulting
LOCATION:This will be a live webinar presented through Zoom. Meeting and access information for this webinar will be emailed after registration. If you do not see the registration information 48 hours after registering\, please check your spam folder. If you need assistance\, please call 910-755-7498. Please note\, live seminars are not recorded.
UID:e.605.44888
SEQUENCE:3
DTSTAMP:20260422T002833Z
URL:https://business.brunswickcountychamber.org/events/details/penny-ballgame-cost-prices-profits-in-food-business-44888
END:VEVENT

END:VCALENDAR
