BEGIN:VCALENDAR
VERSION:2.0
PRODID:-//ChamberMaster//Event Calendar 2.0//EN
METHOD:PUBLISH
X-PUBLISHED-TTL:P3D
REFRESH-INTERVAL:P3D
CALSCALE:GREGORIAN
BEGIN:VEVENT
DTSTART:20260122T223000Z
DTEND:20260123T000000Z
X-MICROSOFT-CDO-ALLDAYEVENT:FALSE
SUMMARY:Ponga en Marcha tu Preparación de Impuestos - Parte 2
DESCRIPTION:Parte 2: Durante la segunda parte del seminario de impuestos\, revisaremos y discutiremos los formularios m s utilizados y veremos paso a paso el proceso de completar formularios y c mo enviarlos electr nicamente. Prep rese con preguntas generales sobre c mo preparar y presentar sus impuestos.\n\n\n\nSpeaker(s): Sam Stern
X-ALT-DESC;FMTTYPE=text/html:Parte 2: Durante la segunda parte del seminario de impuestos\, revisaremos y discutiremos los formularios m&aacute\;s utilizados y veremos paso a paso el proceso de completar formularios y c&oacute\;mo enviarlos electr&oacute\;nicamente. Prep&aacute\;rese con preguntas generales sobre c&oacute\;mo preparar y presentar sus impuestos.<br />\n<br />\nSpeaker(s): Sam Stern
LOCATION:Este ser un seminario web en vivo presentado a trav s de Zoom. La informaci n de la reuni n y el acceso a este seminario web se enviar por correo electr nico despu s de registrarse. Si no ve la informaci n de registro 48 horas despu s de registrarse\, por favor revise su carpeta de correo no deseado. Si necesita asistencia\, por favor llame al 910-755-8561. Tenga en cuenta que los seminarios en vivo no se graban.
UID:e.605.44866
SEQUENCE:3
DTSTAMP:20260425T123424Z
URL:https://business.brunswickcountychamber.org/events/details/ponga-en-marcha-tu-preparaci&#243;n-de-impuestos-parte-2-44866
END:VEVENT

END:VCALENDAR
