BEGIN:VCALENDAR
VERSION:2.0
PRODID:-//ChamberMaster//Event Calendar 2.0//EN
METHOD:PUBLISH
X-PUBLISHED-TTL:P3D
REFRESH-INTERVAL:P3D
CALSCALE:GREGORIAN
BEGIN:VEVENT
DTSTART:20250923T160000Z
DTEND:20250923T173000Z
X-MICROSOFT-CDO-ALLDAYEVENT:FALSE
SUMMARY:Protecting Your Business: Fraud Prevention and Banking Partnerships
DESCRIPTION:The Brunswick Community College Small Business Center\, in partnership with TD Bank\, invites small business owners and aspiring entrepreneurs to a Lunch and Learn seminar on fraud awareness and protection. Learn how to recognize common scams\, report suspicious activity\, and put safeguards in place to protect your business. The session will also highlight the importance of building a strong relationship with your bank as a key tool in preventing fraud and securing your financial future. Don't miss this opportunity to gain valuable knowledge\, network with fellow entrepreneurs\, and enjoy a meal while learning how to keep your business secure and thriving!\n\n\n\n*Lunch will be provided\; registration is mandatory to ensure adequate seating.*
X-ALT-DESC;FMTTYPE=text/html:The Brunswick Community College Small Business Center\, in partnership with TD Bank\, invites small business owners and aspiring entrepreneurs to a Lunch and Learn seminar on fraud awareness and protection. Learn how to recognize common scams\, report suspicious activity\, and put safeguards in place to protect your business. The session will also highlight the importance of building a strong relationship with your bank as a key tool in preventing fraud and securing your financial future. Don&rsquo\;t miss this opportunity to gain valuable knowledge\, network with fellow entrepreneurs\, and enjoy a meal while learning how to keep your business secure and thriving!<br />\n<br />\n<em><strong>*Lunch will be provided\; registration is mandatory to ensure adequate seating.*</strong></em><br />\n&nbsp\;
LOCATION:Brunswick Community College Leland Center 2045 Enterprise Blvd. Leland NC Room 204
UID:e.605.44433
SEQUENCE:3
DTSTAMP:20260425T180610Z
URL:https://business.brunswickcountychamber.org/events/details/protecting-your-business-fraud-prevention-and-banking-partnerships-44433
END:VEVENT

END:VCALENDAR
