BEGIN:VCALENDAR
VERSION:2.0
PRODID:-//ChamberMaster//Event Calendar 2.0//EN
METHOD:PUBLISH
X-PUBLISHED-TTL:P3D
REFRESH-INTERVAL:P3D
CALSCALE:GREGORIAN
BEGIN:VEVENT
DTSTART:20260204T223000Z
DTEND:20260205T003000Z
X-MICROSOFT-CDO-ALLDAYEVENT:FALSE
SUMMARY:QuickBooks Workshop - Online Set Up and Bank Feeds – Part 1
DESCRIPTION:This webinar will focus on the following: Learn how to save yourself hours of time online by using smart AI features No more shoebox receipts for your accountant Link online banking to QuickBooks online for real time data sync Learn how to use receipt capture to keep track of receipts online Learn how to set rules in your bank feed to eliminate repetitive entries Set up mobile phone apps Learn how to add and match items in the bank feed QB desktop support is going away. Go ahead and transition painlessly.\n\n\n\nSpeaker(s): Amanda Chestnut\, JD\, Accountant\, Money Mastery
X-ALT-DESC;FMTTYPE=text/html:<br />\nThis webinar will focus on the following: Learn how to save yourself hours of time online by using smart AI features No more shoebox receipts for your accountant Link online banking to QuickBooks online for real time data sync Learn how to use receipt capture to keep track of receipts online Learn how to set rules in your bank feed to eliminate repetitive entries Set up mobile phone apps Learn how to add and match items in the bank feed QB desktop support is going away. Go ahead and transition painlessly.<br />\n<br />\nSpeaker(s): Amanda Chestnut\, JD\, Accountant\, Money Mastery
LOCATION:This will be a live webinar presented through Zoom. Meeting and access information for this webinar will be emailed after registration. If you do not see the registration information 48 hours after registering\, please check your spam folder. If you need assistance\, please call 910-755-7498. Please note\, live seminars are not recorded.
UID:e.605.44870
SEQUENCE:3
DTSTAMP:20260425T112343Z
URL:https://business.brunswickcountychamber.org/events/details/quickbooks-workshop-online-set-up-and-bank-feeds-part-1-44870
END:VEVENT

END:VCALENDAR
